Workbook

Sheet Celkem
A1: DHC Plzeň, ženy - celkem - 2018 / 2026
A2: Hráčka | B2: Post | C2: Celkem zápasy | D2: Celkem góly | E2: Liga zápasy | F2: Liga góly | G2: Pohár zápasy | H2: Pohár góly
A3: Baštová Veronika | B3: H | C3: =SUM(E3,G3) -> 17 | D3: =SUM(F3,H3) -> 20 | E3: =SUMIFS('2026_27'!$E$3:$E$49,'2026_27'!$A$3:$A$49,$A3)+SUMIFS('2025_26'!$E$3:$E$25,'2025_26'!$A$3:$A$25,$A3)+SUMIFS('2024_25'!$E$3:$E$21,'2024_25'!$A$3:$A$21,$A3)+SUMIFS('2023_24'!$E$3:$E$22,'2023_24'!$A$3:$A$22,$A3)+SUMIFS('2022_23'!$E$3:$E$23,'2022_23'!$A$3:$A$23,$A3)+SUMIFS('2021_22'!$E$3:$E$21,'2021_22'!$A$3:$A$21,$A3)+SUMIFS('2020_21'!$E$3:$E$28,'2020_21'!$A$3:$A$28,$A3)+SUMIFS('2018_19'!$E$3:$E$28,'2018_19'!$A$3:$A$28,$A3) -> 16 | F3: =SUMIFS('2026_27'!$F$3:$F$49,'2026_27'!$A$3:$A$49,$A3)+SUMIFS('2025_26'!$F$3:$F$25,'2025_26'!$A$3:$A$25,$A3)+SUMIFS('2024_25'!$F$3:$F$21,'2024_25'!$A$3:$A$21,$A3)+SUMIFS('2023_24'!$F$3:$F$22,'2023_24'!$A$3:$A$22,$A3)+SUMIFS('2022_23'!$F$3:$F$23,'2022_23'!$A$3:$A$23,$A3)+SUMIFS('2021_22'!$F$3:$F$21,'2021_22'!$A$3:$A$21,$A3)+SUMIFS('2020_21'!$F$3:$F$28,'2020_21'!$A$3:$A$28,$A3)+SUMIFS('2018_19'!$F$3:$F$28,'2018_19'!$A$3:$A$28,$A3) -> 16 | G3: =SUMIFS('2026_27'!$G$3:$G$49,'2026_27'!$A$3:$A$49,$A3)+SUMIFS('2025_26'!$G$3:$G$25,'2025_26'!$A$3:$A$25,$A3)+SUMIFS('2024_25'!$G$3:$G$21,'2024_25'!$A$3:$A$21,$A3)+SUMIFS('2023_24'!$G$3:$G$22,'2023_24'!$A$3:$A$22,$A3)+SUMIFS('2022_23'!$G$3:$G$23,'2022_23'!$A$3:$A$23,$A3)+SUMIFS('2021_22'!$G$3:$G$21,'2021_22'!$A$3:$A$21,$A3)+SUMIFS('2020_21'!$G$3:$G$28,'2020_21'!$A$3:$A$28,$A3)+SUMIFS('2018_19'!$G$3:$G$28,'2018_19'!$A$3:$A$28,$A3) -> 1 | H3: =SUMIFS('2026_27'!$H$3:$H$49,'2026_27'!$A$3:$A$49,$A3)+SUMIFS('2025_26'!$H$3:$H$25,'2025_26'!$A$3:$A$25,$A3)+SUMIFS('2024_25'!$H$3:$H$21,'2024_25'!$A$3:$A$21,$A3)+SUMIFS('2023_24'!$H$3:$H$22,'2023_24'!$A$3:$A$22,$A3)+SUMIFS('2022_23'!$H$3:$H$23,'2022_23'!$A$3:$A$23,$A3)+SUMIFS('2021_22'!$H$3:$H$21,'2021_22'!$A$3:$A$21,$A3)+SUMIFS('2020_21'!$H$3:$H$28,'2020_21'!$A$3:$A$28,$A3)+SUMIFS('2018_19'!$H$3:$H$28,'2018_19'!$A$3:$A$28,$A3) -> 4
A4: Benešová Lucie | B4: H | C4: =SUM(E4,G4) -> 33 | D4: =SUM(F4,H4) -> 9 | E4: =SUMIFS('2026_27'!$E$3:$E$49,'2026_27'!$A$3:$A$49,$A4)+SUMIFS('2025_26'!$E$3:$E$25,'2025_26'!$A$3:$A$25,$A4)+SUMIFS('2024_25'!$E$3:$E$21,'2024_25'!$A$3:$A$21,$A4)+SUMIFS('2023_24'!$E$3:$E$22,'2023_24'!$A$3:$A$22,$A4)+SUMIFS('2022_23'!$E$3:$E$23,'2022_23'!$A$3:$A$23,$A4)+SUMIFS('2021_22'!$E$3:$E$21,'2021_22'!$A$3:$A$21,$A4)+SUMIFS('2020_21'!$E$3:$E$28,'2020_21'!$A$3:$A$28,$A4)+SUMIFS('2018_19'!$E$3:$E$28,'2018_19'!$A$3:$A$28,$A4) -> 32 | F4: =SUMIFS('2026_27'!$F$3:$F$49,'2026_27'!$A$3:$A$49,$A4)+SUMIFS('2025_26'!$F$3:$F$25,'2025_26'!$A$3:$A$25,$A4)+SUMIFS('2024_25'!$F$3:$F$21,'2024_25'!$A$3:$A$21,$A4)+SUMIFS('2023_24'!$F$3:$F$22,'2023_24'!$A$3:$A$22,$A4)+SUMIFS('2022_23'!$F$3:$F$23,'2022_23'!$A$3:$A$23,$A4)+SUMIFS('2021_22'!$F$3:$F$21,'2021_22'!$A$3:$A$21,$A4)+SUMIFS('2020_21'!$F$3:$F$28,'2020_21'!$A$3:$A$28,$A4)+SUMIFS('2018_19'!$F$3:$F$28,'2018_19'!$A$3:$A$28,$A4) -> 8 | G4: =SUMIFS('2026_27'!$G$3:$G$49,'2026_27'!$A$3:$A$49,$A4)+SUMIFS('2025_26'!$G$3:$G$25,'2025_26'!$A$3:$A$25,$A4)+SUMIFS('2024_25'!$G$3:$G$21,'2024_25'!$A$3:$A$21,$A4)+SUMIFS('2023_24'!$G$3:$G$22,'2023_24'!$A$3:$A$22,$A4)+SUMIFS('2022_23'!$G$3:$G$23,'2022_23'!$A$3:$A$23,$A4)+SUMIFS('2021_22'!$G$3:$G$21,'2021_22'!$A$3:$A$21,$A4)+SUMIFS('2020_21'!$G$3:$G$28,'2020_21'!$A$3:$A$28,$A4)+SUMIFS('2018_19'!$G$3:$G$28,'2018_19'!$A$3:$A$28,$A4) -> 1 | H4: =SUMIFS('2026_27'!$H$3:$H$49,'2026_27'!$A$3:$A$49,$A4)+SUMIFS('2025_26'!$H$3:$H$25,'2025_26'!$A$3:$A$25,$A4)+SUMIFS('2024_25'!$H$3:$H$21,'2024_25'!$A$3:$A$21,$A4)+SUMIFS('2023_24'!$H$3:$H$22,'2023_24'!$A$3:$A$22,$A4)+SUMIFS('2022_23'!$H$3:$H$23,'2022_23'!$A$3:$A$23,$A4)+SUMIFS('2021_22'!$H$3:$H$21,'2021_22'!$A$3:$A$21,$A4)+SUMIFS('2020_21'!$H$3:$H$28,'2020_21'!$A$3:$A$28,$A4)+SUMIFS('2018_19'!$H$3:$H$28,'2018_19'!$A$3:$A$28,$A4) -> 1 | K4: Poznámky:
A5: Boháčková Kamila | B5: B | C5: =SUM(E5,G5) -> 3 | D5: =SUM(F5,H5) -> 0 | E5: =SUMIFS('2026_27'!$E$3:$E$49,'2026_27'!$A$3:$A$49,$A5)+SUMIFS('2025_26'!$E$3:$E$25,'2025_26'!$A$3:$A$25,$A5)+SUMIFS('2024_25'!$E$3:$E$21,'2024_25'!$A$3:$A$21,$A5)+SUMIFS('2023_24'!$E$3:$E$22,'2023_24'!$A$3:$A$22,$A5)+SUMIFS('2022_23'!$E$3:$E$23,'2022_23'!$A$3:$A$23,$A5)+SUMIFS('2021_22'!$E$3:$E$21,'2021_22'!$A$3:$A$21,$A5)+SUMIFS('2020_21'!$E$3:$E$28,'2020_21'!$A$3:$A$28,$A5)+SUMIFS('2018_19'!$E$3:$E$28,'2018_19'!$A$3:$A$28,$A5) -> 3 | F5: =SUMIFS('2026_27'!$F$3:$F$49,'2026_27'!$A$3:$A$49,$A5)+SUMIFS('2025_26'!$F$3:$F$25,'2025_26'!$A$3:$A$25,$A5)+SUMIFS('2024_25'!$F$3:$F$21,'2024_25'!$A$3:$A$21,$A5)+SUMIFS('2023_24'!$F$3:$F$22,'2023_24'!$A$3:$A$22,$A5)+SUMIFS('2022_23'!$F$3:$F$23,'2022_23'!$A$3:$A$23,$A5)+SUMIFS('2021_22'!$F$3:$F$21,'2021_22'!$A$3:$A$21,$A5)+SUMIFS('2020_21'!$F$3:$F$28,'2020_21'!$A$3:$A$28,$A5)+SUMIFS('2018_19'!$F$3:$F$28,'2018_19'!$A$3:$A$28,$A5) -> 0 | G5: =SUMIFS('2026_27'!$G$3:$G$49,'2026_27'!$A$3:$A$49,$A5)+SUMIFS('2025_26'!$G$3:$G$25,'2025_26'!$A$3:$A$25,$A5)+SUMIFS('2024_25'!$G$3:$G$21,'2024_25'!$A$3:$A$21,$A5)+SUMIFS('2023_24'!$G$3:$G$22,'2023_24'!$A$3:$A$22,$A5)+SUMIFS('2022_23'!$G$3:$G$23,'2022_23'!$A$3:$A$23,$A5)+SUMIFS('2021_22'!$G$3:$G$21,'2021_22'!$A$3:$A$21,$A5)+SUMIFS('2020_21'!$G$3:$G$28,'2020_21'!$A$3:$A$28,$A5)+SUMIFS('2018_19'!$G$3:$G$28,'2018_19'!$A$3:$A$28,$A5) -> 0 | H5: =SUMIFS('2026_27'!$H$3:$H$49,'2026_27'!$A$3:$A$49,$A5)+SUMIFS('2025_26'!$H$3:$H$25,'2025_26'!$A$3:$A$25,$A5)+SUMIFS('2024_25'!$H$3:$H$21,'2024_25'!$A$3:$A$21,$A5)+SUMIFS('2023_24'!$H$3:$H$22,'2023_24'!$A$3:$A$22,$A5)+SUMIFS('2022_23'!$H$3:$H$23,'2022_23'!$A$3:$A$23,$A5)+SUMIFS('2021_22'!$H$3:$H$21,'2021_22'!$A$3:$A$21,$A5)+SUMIFS('2020_21'!$H$3:$H$28,'2020_21'!$A$3:$A$28,$A5)+SUMIFS('2018_19'!$H$3:$H$28,'2018_19'!$A$3:$A$28,$A5) -> 0 | K5: Pokud se vdají, když hrají za náš klub, jsou zde pod novým jménem.
A6: Buchnerová Barbora | B6: H | C6: =SUM(E6,G6) -> 69 | D6: =SUM(F6,H6) -> 122 | E6: =SUMIFS('2026_27'!$E$3:$E$49,'2026_27'!$A$3:$A$49,$A6)+SUMIFS('2025_26'!$E$3:$E$25,'2025_26'!$A$3:$A$25,$A6)+SUMIFS('2024_25'!$E$3:$E$21,'2024_25'!$A$3:$A$21,$A6)+SUMIFS('2023_24'!$E$3:$E$22,'2023_24'!$A$3:$A$22,$A6)+SUMIFS('2022_23'!$E$3:$E$23,'2022_23'!$A$3:$A$23,$A6)+SUMIFS('2021_22'!$E$3:$E$21,'2021_22'!$A$3:$A$21,$A6)+SUMIFS('2020_21'!$E$3:$E$28,'2020_21'!$A$3:$A$28,$A6)+SUMIFS('2018_19'!$E$3:$E$28,'2018_19'!$A$3:$A$28,$A6) -> 65 | F6: =SUMIFS('2026_27'!$F$3:$F$49,'2026_27'!$A$3:$A$49,$A6)+SUMIFS('2025_26'!$F$3:$F$25,'2025_26'!$A$3:$A$25,$A6)+SUMIFS('2024_25'!$F$3:$F$21,'2024_25'!$A$3:$A$21,$A6)+SUMIFS('2023_24'!$F$3:$F$22,'2023_24'!$A$3:$A$22,$A6)+SUMIFS('2022_23'!$F$3:$F$23,'2022_23'!$A$3:$A$23,$A6)+SUMIFS('2021_22'!$F$3:$F$21,'2021_22'!$A$3:$A$21,$A6)+SUMIFS('2020_21'!$F$3:$F$28,'2020_21'!$A$3:$A$28,$A6)+SUMIFS('2018_19'!$F$3:$F$28,'2018_19'!$A$3:$A$28,$A6) -> 114 | G6: =SUMIFS('2026_27'!$G$3:$G$49,'2026_27'!$A$3:$A$49,$A6)+SUMIFS('2025_26'!$G$3:$G$25,'2025_26'!$A$3:$A$25,$A6)+SUMIFS('2024_25'!$G$3:$G$21,'2024_25'!$A$3:$A$21,$A6)+SUMIFS('2023_24'!$G$3:$G$22,'2023_24'!$A$3:$A$22,$A6)+SUMIFS('2022_23'!$G$3:$G$23,'2022_23'!$A$3:$A$23,$A6)+SUMIFS('2021_22'!$G$3:$G$21,'2021_22'!$A$3:$A$21,$A6)+SUMIFS('2020_21'!$G$3:$G$28,'2020_21'!$A$3:$A$28,$A6)+SUMIFS('2018_19'!$G$3:$G$28,'2018_19'!$A$3:$A$28,$A6) -> 4 | H6: =SUMIFS('2026_27'!$H$3:$H$49,'2026_27'!$A$3:$A$49,$A6)+SUMIFS('2025_26'!$H$3:$H$25,'2025_26'!$A$3:$A$25,$A6)+SUMIFS('2024_25'!$H$3:$H$21,'2024_25'!$A$3:$A$21,$A6)+SUMIFS('2023_24'!$H$3:$H$22,'2023_24'!$A$3:$A$22,$A6)+SUMIFS('2022_23'!$H$3:$H$23,'2022_23'!$A$3:$A$23,$A6)+SUMIFS('2021_22'!$H$3:$H$21,'2021_22'!$A$3:$A$21,$A6)+SUMIFS('2020_21'!$H$3:$H$28,'2020_21'!$A$3:$A$28,$A6)+SUMIFS('2018_19'!$H$3:$H$28,'2018_19'!$A$3:$A$28,$A6) -> 8 | K6: Pokud se vdají až po skončení kariéry u nás, jméno neměníme
A7: Burjasová Tereza | B7: H | C7: =SUM(E7,G7) -> 2 | D7: =SUM(F7,H7) -> 1 | E7: =SUMIFS('2026_27'!$E$3:$E$49,'2026_27'!$A$3:$A$49,$A7)+SUMIFS('2025_26'!$E$3:$E$25,'2025_26'!$A$3:$A$25,$A7)+SUMIFS('2024_25'!$E$3:$E$21,'2024_25'!$A$3:$A$21,$A7)+SUMIFS('2023_24'!$E$3:$E$22,'2023_24'!$A$3:$A$22,$A7)+SUMIFS('2022_23'!$E$3:$E$23,'2022_23'!$A$3:$A$23,$A7)+SUMIFS('2021_22'!$E$3:$E$21,'2021_22'!$A$3:$A$21,$A7)+SUMIFS('2020_21'!$E$3:$E$28,'2020_21'!$A$3:$A$28,$A7)+SUMIFS('2018_19'!$E$3:$E$28,'2018_19'!$A$3:$A$28,$A7) -> 1 | F7: =SUMIFS('2026_27'!$F$3:$F$49,'2026_27'!$A$3:$A$49,$A7)+SUMIFS('2025_26'!$F$3:$F$25,'2025_26'!$A$3:$A$25,$A7)+SUMIFS('2024_25'!$F$3:$F$21,'2024_25'!$A$3:$A$21,$A7)+SUMIFS('2023_24'!$F$3:$F$22,'2023_24'!$A$3:$A$22,$A7)+SUMIFS('2022_23'!$F$3:$F$23,'2022_23'!$A$3:$A$23,$A7)+SUMIFS('2021_22'!$F$3:$F$21,'2021_22'!$A$3:$A$21,$A7)+SUMIFS('2020_21'!$F$3:$F$28,'2020_21'!$A$3:$A$28,$A7)+SUMIFS('2018_19'!$F$3:$F$28,'2018_19'!$A$3:$A$28,$A7) -> 0 | G7: =SUMIFS('2026_27'!$G$3:$G$49,'2026_27'!$A$3:$A$49,$A7)+SUMIFS('2025_26'!$G$3:$G$25,'2025_26'!$A$3:$A$25,$A7)+SUMIFS('2024_25'!$G$3:$G$21,'2024_25'!$A$3:$A$21,$A7)+SUMIFS('2023_24'!$G$3:$G$22,'2023_24'!$A$3:$A$22,$A7)+SUMIFS('2022_23'!$G$3:$G$23,'2022_23'!$A$3:$A$23,$A7)+SUMIFS('2021_22'!$G$3:$G$21,'2021_22'!$A$3:$A$21,$A7)+SUMIFS('2020_21'!$G$3:$G$28,'2020_21'!$A$3:$A$28,$A7)+SUMIFS('2018_19'!$G$3:$G$28,'2018_19'!$A$3:$A$28,$A7) -> 1 | H7: =SUMIFS('2026_27'!$H$3:$H$49,'2026_27'!$A$3:$A$49,$A7)+SUMIFS('2025_26'!$H$3:$H$25,'2025_26'!$A$3:$A$25,$A7)+SUMIFS('2024_25'!$H$3:$H$21,'2024_25'!$A$3:$A$21,$A7)+SUMIFS('2023_24'!$H$3:$H$22,'2023_24'!$A$3:$A$22,$A7)+SUMIFS('2022_23'!$H$3:$H$23,'2022_23'!$A$3:$A$23,$A7)+SUMIFS('2021_22'!$H$3:$H$21,'2021_22'!$A$3:$A$21,$A7)+SUMIFS('2020_21'!$H$3:$H$28,'2020_21'!$A$3:$A$28,$A7)+SUMIFS('2018_19'!$H$3:$H$28,'2018_19'!$A$3:$A$28,$A7) -> 1
A8: Buřičová Barbora | B8: H | C8: =SUM(E8,G8) -> 2 | D8: =SUM(F8,H8) -> 1 | E8: =SUMIFS('2026_27'!$E$3:$E$49,'2026_27'!$A$3:$A$49,$A8)+SUMIFS('2025_26'!$E$3:$E$25,'2025_26'!$A$3:$A$25,$A8)+SUMIFS('2024_25'!$E$3:$E$21,'2024_25'!$A$3:$A$21,$A8)+SUMIFS('2023_24'!$E$3:$E$22,'2023_24'!$A$3:$A$22,$A8)+SUMIFS('2022_23'!$E$3:$E$23,'2022_23'!$A$3:$A$23,$A8)+SUMIFS('2021_22'!$E$3:$E$21,'2021_22'!$A$3:$A$21,$A8)+SUMIFS('2020_21'!$E$3:$E$28,'2020_21'!$A$3:$A$28,$A8)+SUMIFS('2018_19'!$E$3:$E$28,'2018_19'!$A$3:$A$28,$A8) -> 1 | F8: =SUMIFS('2026_27'!$F$3:$F$49,'2026_27'!$A$3:$A$49,$A8)+SUMIFS('2025_26'!$F$3:$F$25,'2025_26'!$A$3:$A$25,$A8)+SUMIFS('2024_25'!$F$3:$F$21,'2024_25'!$A$3:$A$21,$A8)+SUMIFS('2023_24'!$F$3:$F$22,'2023_24'!$A$3:$A$22,$A8)+SUMIFS('2022_23'!$F$3:$F$23,'2022_23'!$A$3:$A$23,$A8)+SUMIFS('2021_22'!$F$3:$F$21,'2021_22'!$A$3:$A$21,$A8)+SUMIFS('2020_21'!$F$3:$F$28,'2020_21'!$A$3:$A$28,$A8)+SUMIFS('2018_19'!$F$3:$F$28,'2018_19'!$A$3:$A$28,$A8) -> 1 | G8: =SUMIFS('2026_27'!$G$3:$G$49,'2026_27'!$A$3:$A$49,$A8)+SUMIFS('2025_26'!$G$3:$G$25,'2025_26'!$A$3:$A$25,$A8)+SUMIFS('2024_25'!$G$3:$G$21,'2024_25'!$A$3:$A$21,$A8)+SUMIFS('2023_24'!$G$3:$G$22,'2023_24'!$A$3:$A$22,$A8)+SUMIFS('2022_23'!$G$3:$G$23,'2022_23'!$A$3:$A$23,$A8)+SUMIFS('2021_22'!$G$3:$G$21,'2021_22'!$A$3:$A$21,$A8)+SUMIFS('2020_21'!$G$3:$G$28,'2020_21'!$A$3:$A$28,$A8)+SUMIFS('2018_19'!$G$3:$G$28,'2018_19'!$A$3:$A$28,$A8) -> 1 | H8: =SUMIFS('2026_27'!$H$3:$H$49,'2026_27'!$A$3:$A$49,$A8)+SUMIFS('2025_26'!$H$3:$H$25,'2025_26'!$A$3:$A$25,$A8)+SUMIFS('2024_25'!$H$3:$H$21,'2024_25'!$A$3:$A$21,$A8)+SUMIFS('2023_24'!$H$3:$H$22,'2023_24'!$A$3:$A$22,$A8)+SUMIFS('2022_23'!$H$3:$H$23,'2022_23'!$A$3:$A$23,$A8)+SUMIFS('2021_22'!$H$3:$H$21,'2021_22'!$A$3:$A$21,$A8)+SUMIFS('2020_21'!$H$3:$H$28,'2020_21'!$A$3:$A$28,$A8)+SUMIFS('2018_19'!$H$3:$H$28,'2018_19'!$A$3:$A$28,$A8) -> 0
A9: Bušauerová Tereza | B9: H | C9: =SUM(E9,G9) -> 128 | D9: =SUM(F9,H9) -> 140 | E9: =SUMIFS('2026_27'!$E$3:$E$49,'2026_27'!$A$3:$A$49,$A9)+SUMIFS('2025_26'!$E$3:$E$25,'2025_26'!$A$3:$A$25,$A9)+SUMIFS('2024_25'!$E$3:$E$21,'2024_25'!$A$3:$A$21,$A9)+SUMIFS('2023_24'!$E$3:$E$22,'2023_24'!$A$3:$A$22,$A9)+SUMIFS('2022_23'!$E$3:$E$23,'2022_23'!$A$3:$A$23,$A9)+SUMIFS('2021_22'!$E$3:$E$21,'2021_22'!$A$3:$A$21,$A9)+SUMIFS('2020_21'!$E$3:$E$28,'2020_21'!$A$3:$A$28,$A9)+SUMIFS('2018_19'!$E$3:$E$28,'2018_19'!$A$3:$A$28,$A9) -> 123 | F9: =SUMIFS('2026_27'!$F$3:$F$49,'2026_27'!$A$3:$A$49,$A9)+SUMIFS('2025_26'!$F$3:$F$25,'2025_26'!$A$3:$A$25,$A9)+SUMIFS('2024_25'!$F$3:$F$21,'2024_25'!$A$3:$A$21,$A9)+SUMIFS('2023_24'!$F$3:$F$22,'2023_24'!$A$3:$A$22,$A9)+SUMIFS('2022_23'!$F$3:$F$23,'2022_23'!$A$3:$A$23,$A9)+SUMIFS('2021_22'!$F$3:$F$21,'2021_22'!$A$3:$A$21,$A9)+SUMIFS('2020_21'!$F$3:$F$28,'2020_21'!$A$3:$A$28,$A9)+SUMIFS('2018_19'!$F$3:$F$28,'2018_19'!$A$3:$A$28,$A9) -> 125 | G9: =SUMIFS('2026_27'!$G$3:$G$49,'2026_27'!$A$3:$A$49,$A9)+SUMIFS('2025_26'!$G$3:$G$25,'2025_26'!$A$3:$A$25,$A9)+SUMIFS('2024_25'!$G$3:$G$21,'2024_25'!$A$3:$A$21,$A9)+SUMIFS('2023_24'!$G$3:$G$22,'2023_24'!$A$3:$A$22,$A9)+SUMIFS('2022_23'!$G$3:$G$23,'2022_23'!$A$3:$A$23,$A9)+SUMIFS('2021_22'!$G$3:$G$21,'2021_22'!$A$3:$A$21,$A9)+SUMIFS('2020_21'!$G$3:$G$28,'2020_21'!$A$3:$A$28,$A9)+SUMIFS('2018_19'!$G$3:$G$28,'2018_19'!$A$3:$A$28,$A9) -> 5 | H9: =SUMIFS('2026_27'!$H$3:$H$49,'2026_27'!$A$3:$A$49,$A9)+SUMIFS('2025_26'!$H$3:$H$25,'2025_26'!$A$3:$A$25,$A9)+SUMIFS('2024_25'!$H$3:$H$21,'2024_25'!$A$3:$A$21,$A9)+SUMIFS('2023_24'!$H$3:$H$22,'2023_24'!$A$3:$A$22,$A9)+SUMIFS('2022_23'!$H$3:$H$23,'2022_23'!$A$3:$A$23,$A9)+SUMIFS('2021_22'!$H$3:$H$21,'2021_22'!$A$3:$A$21,$A9)+SUMIFS('2020_21'!$H$3:$H$28,'2020_21'!$A$3:$A$28,$A9)+SUMIFS('2018_19'!$H$3:$H$28,'2018_19'!$A$3:$A$28,$A9) -> 15
A10: Drozdová Lucie | B10: H | C10: =SUM(E10,G10) -> 156 | D10: =SUM(F10,H10) -> 186 | E10: =SUMIFS('2026_27'!$E$3:$E$49,'2026_27'!$A$3:$A$49,$A10)+SUMIFS('2025_26'!$E$3:$E$25,'2025_26'!$A$3:$A$25,$A10)+SUMIFS('2024_25'!$E$3:$E$21,'2024_25'!$A$3:$A$21,$A10)+SUMIFS('2023_24'!$E$3:$E$22,'2023_24'!$A$3:$A$22,$A10)+SUMIFS('2022_23'!$E$3:$E$23,'2022_23'!$A$3:$A$23,$A10)+SUMIFS('2021_22'!$E$3:$E$21,'2021_22'!$A$3:$A$21,$A10)+SUMIFS('2020_21'!$E$3:$E$28,'2020_21'!$A$3:$A$28,$A10)+SUMIFS('2018_19'!$E$3:$E$28,'2018_19'!$A$3:$A$28,$A10) -> 149 | F10: =SUMIFS('2026_27'!$F$3:$F$49,'2026_27'!$A$3:$A$49,$A10)+SUMIFS('2025_26'!$F$3:$F$25,'2025_26'!$A$3:$A$25,$A10)+SUMIFS('2024_25'!$F$3:$F$21,'2024_25'!$A$3:$A$21,$A10)+SUMIFS('2023_24'!$F$3:$F$22,'2023_24'!$A$3:$A$22,$A10)+SUMIFS('2022_23'!$F$3:$F$23,'2022_23'!$A$3:$A$23,$A10)+SUMIFS('2021_22'!$F$3:$F$21,'2021_22'!$A$3:$A$21,$A10)+SUMIFS('2020_21'!$F$3:$F$28,'2020_21'!$A$3:$A$28,$A10)+SUMIFS('2018_19'!$F$3:$F$28,'2018_19'!$A$3:$A$28,$A10) -> 179 | G10: =SUMIFS('2026_27'!$G$3:$G$49,'2026_27'!$A$3:$A$49,$A10)+SUMIFS('2025_26'!$G$3:$G$25,'2025_26'!$A$3:$A$25,$A10)+SUMIFS('2024_25'!$G$3:$G$21,'2024_25'!$A$3:$A$21,$A10)+SUMIFS('2023_24'!$G$3:$G$22,'2023_24'!$A$3:$A$22,$A10)+SUMIFS('2022_23'!$G$3:$G$23,'2022_23'!$A$3:$A$23,$A10)+SUMIFS('2021_22'!$G$3:$G$21,'2021_22'!$A$3:$A$21,$A10)+SUMIFS('2020_21'!$G$3:$G$28,'2020_21'!$A$3:$A$28,$A10)+SUMIFS('2018_19'!$G$3:$G$28,'2018_19'!$A$3:$A$28,$A10) -> 7 | H10: =SUMIFS('2026_27'!$H$3:$H$49,'2026_27'!$A$3:$A$49,$A10)+SUMIFS('2025_26'!$H$3:$H$25,'2025_26'!$A$3:$A$25,$A10)+SUMIFS('2024_25'!$H$3:$H$21,'2024_25'!$A$3:$A$21,$A10)+SUMIFS('2023_24'!$H$3:$H$22,'2023_24'!$A$3:$A$22,$A10)+SUMIFS('2022_23'!$H$3:$H$23,'2022_23'!$A$3:$A$23,$A10)+SUMIFS('2021_22'!$H$3:$H$21,'2021_22'!$A$3:$A$21,$A10)+SUMIFS('2020_21'!$H$3:$H$28,'2020_21'!$A$3:$A$28,$A10)+SUMIFS('2018_19'!$H$3:$H$28,'2018_19'!$A$3:$A$28,$A10) -> 7
A11: Drozdová Petra | B11: H | C11: =SUM(E11,G11) -> 63 | D11: =SUM(F11,H11) -> 113 | E11: =SUMIFS('2026_27'!$E$3:$E$49,'2026_27'!$A$3:$A$49,$A11)+SUMIFS('2025_26'!$E$3:$E$25,'2025_26'!$A$3:$A$25,$A11)+SUMIFS('2024_25'!$E$3:$E$21,'2024_25'!$A$3:$A$21,$A11)+SUMIFS('2023_24'!$E$3:$E$22,'2023_24'!$A$3:$A$22,$A11)+SUMIFS('2022_23'!$E$3:$E$23,'2022_23'!$A$3:$A$23,$A11)+SUMIFS('2021_22'!$E$3:$E$21,'2021_22'!$A$3:$A$21,$A11)+SUMIFS('2020_21'!$E$3:$E$28,'2020_21'!$A$3:$A$28,$A11)+SUMIFS('2018_19'!$E$3:$E$28,'2018_19'!$A$3:$A$28,$A11) -> 58 | F11: =SUMIFS('2026_27'!$F$3:$F$49,'2026_27'!$A$3:$A$49,$A11)+SUMIFS('2025_26'!$F$3:$F$25,'2025_26'!$A$3:$A$25,$A11)+SUMIFS('2024_25'!$F$3:$F$21,'2024_25'!$A$3:$A$21,$A11)+SUMIFS('2023_24'!$F$3:$F$22,'2023_24'!$A$3:$A$22,$A11)+SUMIFS('2022_23'!$F$3:$F$23,'2022_23'!$A$3:$A$23,$A11)+SUMIFS('2021_22'!$F$3:$F$21,'2021_22'!$A$3:$A$21,$A11)+SUMIFS('2020_21'!$F$3:$F$28,'2020_21'!$A$3:$A$28,$A11)+SUMIFS('2018_19'!$F$3:$F$28,'2018_19'!$A$3:$A$28,$A11) -> 91 | G11: =SUMIFS('2026_27'!$G$3:$G$49,'2026_27'!$A$3:$A$49,$A11)+SUMIFS('2025_26'!$G$3:$G$25,'2025_26'!$A$3:$A$25,$A11)+SUMIFS('2024_25'!$G$3:$G$21,'2024_25'!$A$3:$A$21,$A11)+SUMIFS('2023_24'!$G$3:$G$22,'2023_24'!$A$3:$A$22,$A11)+SUMIFS('2022_23'!$G$3:$G$23,'2022_23'!$A$3:$A$23,$A11)+SUMIFS('2021_22'!$G$3:$G$21,'2021_22'!$A$3:$A$21,$A11)+SUMIFS('2020_21'!$G$3:$G$28,'2020_21'!$A$3:$A$28,$A11)+SUMIFS('2018_19'!$G$3:$G$28,'2018_19'!$A$3:$A$28,$A11) -> 5 | H11: =SUMIFS('2026_27'!$H$3:$H$49,'2026_27'!$A$3:$A$49,$A11)+SUMIFS('2025_26'!$H$3:$H$25,'2025_26'!$A$3:$A$25,$A11)+SUMIFS('2024_25'!$H$3:$H$21,'2024_25'!$A$3:$A$21,$A11)+SUMIFS('2023_24'!$H$3:$H$22,'2023_24'!$A$3:$A$22,$A11)+SUMIFS('2022_23'!$H$3:$H$23,'2022_23'!$A$3:$A$23,$A11)+SUMIFS('2021_22'!$H$3:$H$21,'2021_22'!$A$3:$A$21,$A11)+SUMIFS('2020_21'!$H$3:$H$28,'2020_21'!$A$3:$A$28,$A11)+SUMIFS('2018_19'!$H$3:$H$28,'2018_19'!$A$3:$A$28,$A11) -> 22
A12: Dvořáková Veronika | B12: H | C12: =SUM(E12,G12) -> 5 | D12: =SUM(F12,H12) -> 9 | E12: =SUMIFS('2026_27'!$E$3:$E$49,'2026_27'!$A$3:$A$49,$A12)+SUMIFS('2025_26'!$E$3:$E$25,'2025_26'!$A$3:$A$25,$A12)+SUMIFS('2024_25'!$E$3:$E$21,'2024_25'!$A$3:$A$21,$A12)+SUMIFS('2023_24'!$E$3:$E$22,'2023_24'!$A$3:$A$22,$A12)+SUMIFS('2022_23'!$E$3:$E$23,'2022_23'!$A$3:$A$23,$A12)+SUMIFS('2021_22'!$E$3:$E$21,'2021_22'!$A$3:$A$21,$A12)+SUMIFS('2020_21'!$E$3:$E$28,'2020_21'!$A$3:$A$28,$A12)+SUMIFS('2018_19'!$E$3:$E$28,'2018_19'!$A$3:$A$28,$A12) -> 5 | F12: =SUMIFS('2026_27'!$F$3:$F$49,'2026_27'!$A$3:$A$49,$A12)+SUMIFS('2025_26'!$F$3:$F$25,'2025_26'!$A$3:$A$25,$A12)+SUMIFS('2024_25'!$F$3:$F$21,'2024_25'!$A$3:$A$21,$A12)+SUMIFS('2023_24'!$F$3:$F$22,'2023_24'!$A$3:$A$22,$A12)+SUMIFS('2022_23'!$F$3:$F$23,'2022_23'!$A$3:$A$23,$A12)+SUMIFS('2021_22'!$F$3:$F$21,'2021_22'!$A$3:$A$21,$A12)+SUMIFS('2020_21'!$F$3:$F$28,'2020_21'!$A$3:$A$28,$A12)+SUMIFS('2018_19'!$F$3:$F$28,'2018_19'!$A$3:$A$28,$A12) -> 9 | G12: =SUMIFS('2026_27'!$G$3:$G$49,'2026_27'!$A$3:$A$49,$A12)+SUMIFS('2025_26'!$G$3:$G$25,'2025_26'!$A$3:$A$25,$A12)+SUMIFS('2024_25'!$G$3:$G$21,'2024_25'!$A$3:$A$21,$A12)+SUMIFS('2023_24'!$G$3:$G$22,'2023_24'!$A$3:$A$22,$A12)+SUMIFS('2022_23'!$G$3:$G$23,'2022_23'!$A$3:$A$23,$A12)+SUMIFS('2021_22'!$G$3:$G$21,'2021_22'!$A$3:$A$21,$A12)+SUMIFS('2020_21'!$G$3:$G$28,'2020_21'!$A$3:$A$28,$A12)+SUMIFS('2018_19'!$G$3:$G$28,'2018_19'!$A$3:$A$28,$A12) -> 0 | H12: =SUMIFS('2026_27'!$H$3:$H$49,'2026_27'!$A$3:$A$49,$A12)+SUMIFS('2025_26'!$H$3:$H$25,'2025_26'!$A$3:$A$25,$A12)+SUMIFS('2024_25'!$H$3:$H$21,'2024_25'!$A$3:$A$21,$A12)+SUMIFS('2023_24'!$H$3:$H$22,'2023_24'!$A$3:$A$22,$A12)+SUMIFS('2022_23'!$H$3:$H$23,'2022_23'!$A$3:$A$23,$A12)+SUMIFS('2021_22'!$H$3:$H$21,'2021_22'!$A$3:$A$21,$A12)+SUMIFS('2020_21'!$H$3:$H$28,'2020_21'!$A$3:$A$28,$A12)+SUMIFS('2018_19'!$H$3:$H$28,'2018_19'!$A$3:$A$28,$A12) -> 0
A13: Fenclová Veronika (Galušková) | B13: H | C13: =SUM(E13,G13) -> 120 | D13: =SUM(F13,H13) -> 852 | E13: =SUMIFS('2026_27'!$E$3:$E$49,'2026_27'!$A$3:$A$49,$A13)+SUMIFS('2025_26'!$E$3:$E$25,'2025_26'!$A$3:$A$25,$A13)+SUMIFS('2024_25'!$E$3:$E$21,'2024_25'!$A$3:$A$21,$A13)+SUMIFS('2023_24'!$E$3:$E$22,'2023_24'!$A$3:$A$22,$A13)+SUMIFS('2022_23'!$E$3:$E$23,'2022_23'!$A$3:$A$23,$A13)+SUMIFS('2021_22'!$E$3:$E$21,'2021_22'!$A$3:$A$21,$A13)+SUMIFS('2020_21'!$E$3:$E$28,'2020_21'!$A$3:$A$28,$A13)+SUMIFS('2018_19'!$E$3:$E$28,'2018_19'!$A$3:$A$28,$A13) -> 114 | F13: =SUMIFS('2026_27'!$F$3:$F$49,'2026_27'!$A$3:$A$49,$A13)+SUMIFS('2025_26'!$F$3:$F$25,'2025_26'!$A$3:$A$25,$A13)+SUMIFS('2024_25'!$F$3:$F$21,'2024_25'!$A$3:$A$21,$A13)+SUMIFS('2023_24'!$F$3:$F$22,'2023_24'!$A$3:$A$22,$A13)+SUMIFS('2022_23'!$F$3:$F$23,'2022_23'!$A$3:$A$23,$A13)+SUMIFS('2021_22'!$F$3:$F$21,'2021_22'!$A$3:$A$21,$A13)+SUMIFS('2020_21'!$F$3:$F$28,'2020_21'!$A$3:$A$28,$A13)+SUMIFS('2018_19'!$F$3:$F$28,'2018_19'!$A$3:$A$28,$A13) -> 823 | G13: =SUMIFS('2026_27'!$G$3:$G$49,'2026_27'!$A$3:$A$49,$A13)+SUMIFS('2025_26'!$G$3:$G$25,'2025_26'!$A$3:$A$25,$A13)+SUMIFS('2024_25'!$G$3:$G$21,'2024_25'!$A$3:$A$21,$A13)+SUMIFS('2023_24'!$G$3:$G$22,'2023_24'!$A$3:$A$22,$A13)+SUMIFS('2022_23'!$G$3:$G$23,'2022_23'!$A$3:$A$23,$A13)+SUMIFS('2021_22'!$G$3:$G$21,'2021_22'!$A$3:$A$21,$A13)+SUMIFS('2020_21'!$G$3:$G$28,'2020_21'!$A$3:$A$28,$A13)+SUMIFS('2018_19'!$G$3:$G$28,'2018_19'!$A$3:$A$28,$A13) -> 6 | H13: =SUMIFS('2026_27'!$H$3:$H$49,'2026_27'!$A$3:$A$49,$A13)+SUMIFS('2025_26'!$H$3:$H$25,'2025_26'!$A$3:$A$25,$A13)+SUMIFS('2024_25'!$H$3:$H$21,'2024_25'!$A$3:$A$21,$A13)+SUMIFS('2023_24'!$H$3:$H$22,'2023_24'!$A$3:$A$22,$A13)+SUMIFS('2022_23'!$H$3:$H$23,'2022_23'!$A$3:$A$23,$A13)+SUMIFS('2021_22'!$H$3:$H$21,'2021_22'!$A$3:$A$21,$A13)+SUMIFS('2020_21'!$H$3:$H$28,'2020_21'!$A$3:$A$28,$A13)+SUMIFS('2018_19'!$H$3:$H$28,'2018_19'!$A$3:$A$28,$A13) -> 29
A14: Ferencová Petra | B14: H | C14: =SUM(E14,G14) -> 20 | D14: =SUM(F14,H14) -> 15 | E14: =SUMIFS('2026_27'!$E$3:$E$49,'2026_27'!$A$3:$A$49,$A14)+SUMIFS('2025_26'!$E$3:$E$25,'2025_26'!$A$3:$A$25,$A14)+SUMIFS('2024_25'!$E$3:$E$21,'2024_25'!$A$3:$A$21,$A14)+SUMIFS('2023_24'!$E$3:$E$22,'2023_24'!$A$3:$A$22,$A14)+SUMIFS('2022_23'!$E$3:$E$23,'2022_23'!$A$3:$A$23,$A14)+SUMIFS('2021_22'!$E$3:$E$21,'2021_22'!$A$3:$A$21,$A14)+SUMIFS('2020_21'!$E$3:$E$28,'2020_21'!$A$3:$A$28,$A14)+SUMIFS('2018_19'!$E$3:$E$28,'2018_19'!$A$3:$A$28,$A14) -> 18 | F14: =SUMIFS('2026_27'!$F$3:$F$49,'2026_27'!$A$3:$A$49,$A14)+SUMIFS('2025_26'!$F$3:$F$25,'2025_26'!$A$3:$A$25,$A14)+SUMIFS('2024_25'!$F$3:$F$21,'2024_25'!$A$3:$A$21,$A14)+SUMIFS('2023_24'!$F$3:$F$22,'2023_24'!$A$3:$A$22,$A14)+SUMIFS('2022_23'!$F$3:$F$23,'2022_23'!$A$3:$A$23,$A14)+SUMIFS('2021_22'!$F$3:$F$21,'2021_22'!$A$3:$A$21,$A14)+SUMIFS('2020_21'!$F$3:$F$28,'2020_21'!$A$3:$A$28,$A14)+SUMIFS('2018_19'!$F$3:$F$28,'2018_19'!$A$3:$A$28,$A14) -> 13 | G14: =SUMIFS('2026_27'!$G$3:$G$49,'2026_27'!$A$3:$A$49,$A14)+SUMIFS('2025_26'!$G$3:$G$25,'2025_26'!$A$3:$A$25,$A14)+SUMIFS('2024_25'!$G$3:$G$21,'2024_25'!$A$3:$A$21,$A14)+SUMIFS('2023_24'!$G$3:$G$22,'2023_24'!$A$3:$A$22,$A14)+SUMIFS('2022_23'!$G$3:$G$23,'2022_23'!$A$3:$A$23,$A14)+SUMIFS('2021_22'!$G$3:$G$21,'2021_22'!$A$3:$A$21,$A14)+SUMIFS('2020_21'!$G$3:$G$28,'2020_21'!$A$3:$A$28,$A14)+SUMIFS('2018_19'!$G$3:$G$28,'2018_19'!$A$3:$A$28,$A14) -> 2 | H14: =SUMIFS('2026_27'!$H$3:$H$49,'2026_27'!$A$3:$A$49,$A14)+SUMIFS('2025_26'!$H$3:$H$25,'2025_26'!$A$3:$A$25,$A14)+SUMIFS('2024_25'!$H$3:$H$21,'2024_25'!$A$3:$A$21,$A14)+SUMIFS('2023_24'!$H$3:$H$22,'2023_24'!$A$3:$A$22,$A14)+SUMIFS('2022_23'!$H$3:$H$23,'2022_23'!$A$3:$A$23,$A14)+SUMIFS('2021_22'!$H$3:$H$21,'2021_22'!$A$3:$A$21,$A14)+SUMIFS('2020_21'!$H$3:$H$28,'2020_21'!$A$3:$A$28,$A14)+SUMIFS('2018_19'!$H$3:$H$28,'2018_19'!$A$3:$A$28,$A14) -> 2
A15: Formanová Hana | B15: H | C15: =SUM(E15,G15) -> 91 | D15: =SUM(F15,H15) -> 82 | E15: =SUMIFS('2026_27'!$E$3:$E$49,'2026_27'!$A$3:$A$49,$A15)+SUMIFS('2025_26'!$E$3:$E$25,'2025_26'!$A$3:$A$25,$A15)+SUMIFS('2024_25'!$E$3:$E$21,'2024_25'!$A$3:$A$21,$A15)+SUMIFS('2023_24'!$E$3:$E$22,'2023_24'!$A$3:$A$22,$A15)+SUMIFS('2022_23'!$E$3:$E$23,'2022_23'!$A$3:$A$23,$A15)+SUMIFS('2021_22'!$E$3:$E$21,'2021_22'!$A$3:$A$21,$A15)+SUMIFS('2020_21'!$E$3:$E$28,'2020_21'!$A$3:$A$28,$A15)+SUMIFS('2018_19'!$E$3:$E$28,'2018_19'!$A$3:$A$28,$A15) -> 87 | F15: =SUMIFS('2026_27'!$F$3:$F$49,'2026_27'!$A$3:$A$49,$A15)+SUMIFS('2025_26'!$F$3:$F$25,'2025_26'!$A$3:$A$25,$A15)+SUMIFS('2024_25'!$F$3:$F$21,'2024_25'!$A$3:$A$21,$A15)+SUMIFS('2023_24'!$F$3:$F$22,'2023_24'!$A$3:$A$22,$A15)+SUMIFS('2022_23'!$F$3:$F$23,'2022_23'!$A$3:$A$23,$A15)+SUMIFS('2021_22'!$F$3:$F$21,'2021_22'!$A$3:$A$21,$A15)+SUMIFS('2020_21'!$F$3:$F$28,'2020_21'!$A$3:$A$28,$A15)+SUMIFS('2018_19'!$F$3:$F$28,'2018_19'!$A$3:$A$28,$A15) -> 74 | G15: =SUMIFS('2026_27'!$G$3:$G$49,'2026_27'!$A$3:$A$49,$A15)+SUMIFS('2025_26'!$G$3:$G$25,'2025_26'!$A$3:$A$25,$A15)+SUMIFS('2024_25'!$G$3:$G$21,'2024_25'!$A$3:$A$21,$A15)+SUMIFS('2023_24'!$G$3:$G$22,'2023_24'!$A$3:$A$22,$A15)+SUMIFS('2022_23'!$G$3:$G$23,'2022_23'!$A$3:$A$23,$A15)+SUMIFS('2021_22'!$G$3:$G$21,'2021_22'!$A$3:$A$21,$A15)+SUMIFS('2020_21'!$G$3:$G$28,'2020_21'!$A$3:$A$28,$A15)+SUMIFS('2018_19'!$G$3:$G$28,'2018_19'!$A$3:$A$28,$A15) -> 4 | H15: =SUMIFS('2026_27'!$H$3:$H$49,'2026_27'!$A$3:$A$49,$A15)+SUMIFS('2025_26'!$H$3:$H$25,'2025_26'!$A$3:$A$25,$A15)+SUMIFS('2024_25'!$H$3:$H$21,'2024_25'!$A$3:$A$21,$A15)+SUMIFS('2023_24'!$H$3:$H$22,'2023_24'!$A$3:$A$22,$A15)+SUMIFS('2022_23'!$H$3:$H$23,'2022_23'!$A$3:$A$23,$A15)+SUMIFS('2021_22'!$H$3:$H$21,'2021_22'!$A$3:$A$21,$A15)+SUMIFS('2020_21'!$H$3:$H$28,'2020_21'!$A$3:$A$28,$A15)+SUMIFS('2018_19'!$H$3:$H$28,'2018_19'!$A$3:$A$28,$A15) -> 8
A16: Fousková Markéta | B16: H | C16: =SUM(E16,G16) -> 14 | D16: =SUM(F16,H16) -> 8 | E16: =SUMIFS('2026_27'!$E$3:$E$49,'2026_27'!$A$3:$A$49,$A16)+SUMIFS('2025_26'!$E$3:$E$25,'2025_26'!$A$3:$A$25,$A16)+SUMIFS('2024_25'!$E$3:$E$21,'2024_25'!$A$3:$A$21,$A16)+SUMIFS('2023_24'!$E$3:$E$22,'2023_24'!$A$3:$A$22,$A16)+SUMIFS('2022_23'!$E$3:$E$23,'2022_23'!$A$3:$A$23,$A16)+SUMIFS('2021_22'!$E$3:$E$21,'2021_22'!$A$3:$A$21,$A16)+SUMIFS('2020_21'!$E$3:$E$28,'2020_21'!$A$3:$A$28,$A16)+SUMIFS('2018_19'!$E$3:$E$28,'2018_19'!$A$3:$A$28,$A16) -> 13 | F16: =SUMIFS('2026_27'!$F$3:$F$49,'2026_27'!$A$3:$A$49,$A16)+SUMIFS('2025_26'!$F$3:$F$25,'2025_26'!$A$3:$A$25,$A16)+SUMIFS('2024_25'!$F$3:$F$21,'2024_25'!$A$3:$A$21,$A16)+SUMIFS('2023_24'!$F$3:$F$22,'2023_24'!$A$3:$A$22,$A16)+SUMIFS('2022_23'!$F$3:$F$23,'2022_23'!$A$3:$A$23,$A16)+SUMIFS('2021_22'!$F$3:$F$21,'2021_22'!$A$3:$A$21,$A16)+SUMIFS('2020_21'!$F$3:$F$28,'2020_21'!$A$3:$A$28,$A16)+SUMIFS('2018_19'!$F$3:$F$28,'2018_19'!$A$3:$A$28,$A16) -> 7 | G16: =SUMIFS('2026_27'!$G$3:$G$49,'2026_27'!$A$3:$A$49,$A16)+SUMIFS('2025_26'!$G$3:$G$25,'2025_26'!$A$3:$A$25,$A16)+SUMIFS('2024_25'!$G$3:$G$21,'2024_25'!$A$3:$A$21,$A16)+SUMIFS('2023_24'!$G$3:$G$22,'2023_24'!$A$3:$A$22,$A16)+SUMIFS('2022_23'!$G$3:$G$23,'2022_23'!$A$3:$A$23,$A16)+SUMIFS('2021_22'!$G$3:$G$21,'2021_22'!$A$3:$A$21,$A16)+SUMIFS('2020_21'!$G$3:$G$28,'2020_21'!$A$3:$A$28,$A16)+SUMIFS('2018_19'!$G$3:$G$28,'2018_19'!$A$3:$A$28,$A16) -> 1 | H16: =SUMIFS('2026_27'!$H$3:$H$49,'2026_27'!$A$3:$A$49,$A16)+SUMIFS('2025_26'!$H$3:$H$25,'2025_26'!$A$3:$A$25,$A16)+SUMIFS('2024_25'!$H$3:$H$21,'2024_25'!$A$3:$A$21,$A16)+SUMIFS('2023_24'!$H$3:$H$22,'2023_24'!$A$3:$A$22,$A16)+SUMIFS('2022_23'!$H$3:$H$23,'2022_23'!$A$3:$A$23,$A16)+SUMIFS('2021_22'!$H$3:$H$21,'2021_22'!$A$3:$A$21,$A16)+SUMIFS('2020_21'!$H$3:$H$28,'2020_21'!$A$3:$A$28,$A16)+SUMIFS('2018_19'!$H$3:$H$28,'2018_19'!$A$3:$A$28,$A16) -> 1
A17: Franzová Denisa | B17: H | C17: =SUM(E17,G17) -> 171 | D17: =SUM(F17,H17) -> 392 | E17: =SUMIFS('2026_27'!$E$3:$E$49,'2026_27'!$A$3:$A$49,$A17)+SUMIFS('2025_26'!$E$3:$E$25,'2025_26'!$A$3:$A$25,$A17)+SUMIFS('2024_25'!$E$3:$E$21,'2024_25'!$A$3:$A$21,$A17)+SUMIFS('2023_24'!$E$3:$E$22,'2023_24'!$A$3:$A$22,$A17)+SUMIFS('2022_23'!$E$3:$E$23,'2022_23'!$A$3:$A$23,$A17)+SUMIFS('2021_22'!$E$3:$E$21,'2021_22'!$A$3:$A$21,$A17)+SUMIFS('2020_21'!$E$3:$E$28,'2020_21'!$A$3:$A$28,$A17)+SUMIFS('2018_19'!$E$3:$E$28,'2018_19'!$A$3:$A$28,$A17) -> 164 | F17: =SUMIFS('2026_27'!$F$3:$F$49,'2026_27'!$A$3:$A$49,$A17)+SUMIFS('2025_26'!$F$3:$F$25,'2025_26'!$A$3:$A$25,$A17)+SUMIFS('2024_25'!$F$3:$F$21,'2024_25'!$A$3:$A$21,$A17)+SUMIFS('2023_24'!$F$3:$F$22,'2023_24'!$A$3:$A$22,$A17)+SUMIFS('2022_23'!$F$3:$F$23,'2022_23'!$A$3:$A$23,$A17)+SUMIFS('2021_22'!$F$3:$F$21,'2021_22'!$A$3:$A$21,$A17)+SUMIFS('2020_21'!$F$3:$F$28,'2020_21'!$A$3:$A$28,$A17)+SUMIFS('2018_19'!$F$3:$F$28,'2018_19'!$A$3:$A$28,$A17) -> 376 | G17: =SUMIFS('2026_27'!$G$3:$G$49,'2026_27'!$A$3:$A$49,$A17)+SUMIFS('2025_26'!$G$3:$G$25,'2025_26'!$A$3:$A$25,$A17)+SUMIFS('2024_25'!$G$3:$G$21,'2024_25'!$A$3:$A$21,$A17)+SUMIFS('2023_24'!$G$3:$G$22,'2023_24'!$A$3:$A$22,$A17)+SUMIFS('2022_23'!$G$3:$G$23,'2022_23'!$A$3:$A$23,$A17)+SUMIFS('2021_22'!$G$3:$G$21,'2021_22'!$A$3:$A$21,$A17)+SUMIFS('2020_21'!$G$3:$G$28,'2020_21'!$A$3:$A$28,$A17)+SUMIFS('2018_19'!$G$3:$G$28,'2018_19'!$A$3:$A$28,$A17) -> 7 | H17: =SUMIFS('2026_27'!$H$3:$H$49,'2026_27'!$A$3:$A$49,$A17)+SUMIFS('2025_26'!$H$3:$H$25,'2025_26'!$A$3:$A$25,$A17)+SUMIFS('2024_25'!$H$3:$H$21,'2024_25'!$A$3:$A$21,$A17)+SUMIFS('2023_24'!$H$3:$H$22,'2023_24'!$A$3:$A$22,$A17)+SUMIFS('2022_23'!$H$3:$H$23,'2022_23'!$A$3:$A$23,$A17)+SUMIFS('2021_22'!$H$3:$H$21,'2021_22'!$A$3:$A$21,$A17)+SUMIFS('2020_21'!$H$3:$H$28,'2020_21'!$A$3:$A$28,$A17)+SUMIFS('2018_19'!$H$3:$H$28,'2018_19'!$A$3:$A$28,$A17) -> 16
A18: Galušková Dominika | B18: H | C18: =SUM(E18,G18) -> 127 | D18: =SUM(F18,H18) -> 164 | E18: =SUMIFS('2026_27'!$E$3:$E$49,'2026_27'!$A$3:$A$49,$A18)+SUMIFS('2025_26'!$E$3:$E$25,'2025_26'!$A$3:$A$25,$A18)+SUMIFS('2024_25'!$E$3:$E$21,'2024_25'!$A$3:$A$21,$A18)+SUMIFS('2023_24'!$E$3:$E$22,'2023_24'!$A$3:$A$22,$A18)+SUMIFS('2022_23'!$E$3:$E$23,'2022_23'!$A$3:$A$23,$A18)+SUMIFS('2021_22'!$E$3:$E$21,'2021_22'!$A$3:$A$21,$A18)+SUMIFS('2020_21'!$E$3:$E$28,'2020_21'!$A$3:$A$28,$A18)+SUMIFS('2018_19'!$E$3:$E$28,'2018_19'!$A$3:$A$28,$A18) -> 122 | F18: =SUMIFS('2026_27'!$F$3:$F$49,'2026_27'!$A$3:$A$49,$A18)+SUMIFS('2025_26'!$F$3:$F$25,'2025_26'!$A$3:$A$25,$A18)+SUMIFS('2024_25'!$F$3:$F$21,'2024_25'!$A$3:$A$21,$A18)+SUMIFS('2023_24'!$F$3:$F$22,'2023_24'!$A$3:$A$22,$A18)+SUMIFS('2022_23'!$F$3:$F$23,'2022_23'!$A$3:$A$23,$A18)+SUMIFS('2021_22'!$F$3:$F$21,'2021_22'!$A$3:$A$21,$A18)+SUMIFS('2020_21'!$F$3:$F$28,'2020_21'!$A$3:$A$28,$A18)+SUMIFS('2018_19'!$F$3:$F$28,'2018_19'!$A$3:$A$28,$A18) -> 157 | G18: =SUMIFS('2026_27'!$G$3:$G$49,'2026_27'!$A$3:$A$49,$A18)+SUMIFS('2025_26'!$G$3:$G$25,'2025_26'!$A$3:$A$25,$A18)+SUMIFS('2024_25'!$G$3:$G$21,'2024_25'!$A$3:$A$21,$A18)+SUMIFS('2023_24'!$G$3:$G$22,'2023_24'!$A$3:$A$22,$A18)+SUMIFS('2022_23'!$G$3:$G$23,'2022_23'!$A$3:$A$23,$A18)+SUMIFS('2021_22'!$G$3:$G$21,'2021_22'!$A$3:$A$21,$A18)+SUMIFS('2020_21'!$G$3:$G$28,'2020_21'!$A$3:$A$28,$A18)+SUMIFS('2018_19'!$G$3:$G$28,'2018_19'!$A$3:$A$28,$A18) -> 5 | H18: =SUMIFS('2026_27'!$H$3:$H$49,'2026_27'!$A$3:$A$49,$A18)+SUMIFS('2025_26'!$H$3:$H$25,'2025_26'!$A$3:$A$25,$A18)+SUMIFS('2024_25'!$H$3:$H$21,'2024_25'!$A$3:$A$21,$A18)+SUMIFS('2023_24'!$H$3:$H$22,'2023_24'!$A$3:$A$22,$A18)+SUMIFS('2022_23'!$H$3:$H$23,'2022_23'!$A$3:$A$23,$A18)+SUMIFS('2021_22'!$H$3:$H$21,'2021_22'!$A$3:$A$21,$A18)+SUMIFS('2020_21'!$H$3:$H$28,'2020_21'!$A$3:$A$28,$A18)+SUMIFS('2018_19'!$H$3:$H$28,'2018_19'!$A$3:$A$28,$A18) -> 7
... A73: Wisterová Kristýna | B73: H | C73: =SUM(E73,G73) -> 1 | D73: =SUM(F73,H73) -> 0 | E73: =SUMIFS('2026_27'!$E$3:$E$49,'2026_27'!$A$3:$A$49,$A73)+SUMIFS('2025_26'!$E$3:$E$25,'2025_26'!$A$3:$A$25,$A73)+SUMIFS('2024_25'!$E$3:$E$21,'2024_25'!$A$3:$A$21,$A73)+SUMIFS('2023_24'!$E$3:$E$22,'2023_24'!$A$3:$A$22,$A73)+SUMIFS('2022_23'!$E$3:$E$23,'2022_23'!$A$3:$A$23,$A73)+SUMIFS('2021_22'!$E$3:$E$21,'2021_22'!$A$3:$A$21,$A73)+SUMIFS('2020_21'!$E$3:$E$28,'2020_21'!$A$3:$A$28,$A73)+SUMIFS('2018_19'!$E$3:$E$28,'2018_19'!$A$3:$A$28,$A73) -> 1 | F73: =SUMIFS('2026_27'!$F$3:$F$49,'2026_27'!$A$3:$A$49,$A73)+SUMIFS('2025_26'!$F$3:$F$25,'2025_26'!$A$3:$A$25,$A73)+SUMIFS('2024_25'!$F$3:$F$21,'2024_25'!$A$3:$A$21,$A73)+SUMIFS('2023_24'!$F$3:$F$22,'2023_24'!$A$3:$A$22,$A73)+SUMIFS('2022_23'!$F$3:$F$23,'2022_23'!$A$3:$A$23,$A73)+SUMIFS('2021_22'!$F$3:$F$21,'2021_22'!$A$3:$A$21,$A73)+SUMIFS('2020_21'!$F$3:$F$28,'2020_21'!$A$3:$A$28,$A73)+SUMIFS('2018_19'!$F$3:$F$28,'2018_19'!$A$3:$A$28,$A73) -> 0 | G73: =SUMIFS('2026_27'!$G$3:$G$49,'2026_27'!$A$3:$A$49,$A73)+SUMIFS('2025_26'!$G$3:$G$25,'2025_26'!$A$3:$A$25,$A73)+SUMIFS('2024_25'!$G$3:$G$21,'2024_25'!$A$3:$A$21,$A73)+SUMIFS('2023_24'!$G$3:$G$22,'2023_24'!$A$3:$A$22,$A73)+SUMIFS('2022_23'!$G$3:$G$23,'2022_23'!$A$3:$A$23,$A73)+SUMIFS('2021_22'!$G$3:$G$21,'2021_22'!$A$3:$A$21,$A73)+SUMIFS('2020_21'!$G$3:$G$28,'2020_21'!$A$3:$A$28,$A73)+SUMIFS('2018_19'!$G$3:$G$28,'2018_19'!$A$3:$A$28,$A73) -> 0 | H73: =SUMIFS('2026_27'!$H$3:$H$49,'2026_27'!$A$3:$A$49,$A73)+SUMIFS('2025_26'!$H$3:$H$25,'2025_26'!$A$3:$A$25,$A73)+SUMIFS('2024_25'!$H$3:$H$21,'2024_25'!$A$3:$A$21,$A73)+SUMIFS('2023_24'!$H$3:$H$22,'2023_24'!$A$3:$A$22,$A73)+SUMIFS('2022_23'!$H$3:$H$23,'2022_23'!$A$3:$A$23,$A73)+SUMIFS('2021_22'!$H$3:$H$21,'2021_22'!$A$3:$A$21,$A73)+SUMIFS('2020_21'!$H$3:$H$28,'2020_21'!$A$3:$A$28,$A73)+SUMIFS('2018_19'!$H$3:$H$28,'2018_19'!$A$3:$A$28,$A73) -> 0
C74: =SUM(E74,G74) -> 0 | D74: =SUM(F74,H74) -> 0 | E74: =SUMIFS('2026_27'!$E$3:$E$49,'2026_27'!$A$3:$A$49,$A74)+SUMIFS('2025_26'!$E$3:$E$25,'2025_26'!$A$3:$A$25,$A74)+SUMIFS('2024_25'!$E$3:$E$21,'2024_25'!$A$3:$A$21,$A74)+SUMIFS('2023_24'!$E$3:$E$22,'2023_24'!$A$3:$A$22,$A74)+SUMIFS('2022_23'!$E$3:$E$23,'2022_23'!$A$3:$A$23,$A74)+SUMIFS('2021_22'!$E$3:$E$21,'2021_22'!$A$3:$A$21,$A74)+SUMIFS('2020_21'!$E$3:$E$28,'2020_21'!$A$3:$A$28,$A74)+SUMIFS('2018_19'!$E$3:$E$28,'2018_19'!$A$3:$A$28,$A74) -> 0 | F74: =SUMIFS('2026_27'!$F$3:$F$49,'2026_27'!$A$3:$A$49,$A74)+SUMIFS('2025_26'!$F$3:$F$25,'2025_26'!$A$3:$A$25,$A74)+SUMIFS('2024_25'!$F$3:$F$21,'2024_25'!$A$3:$A$21,$A74)+SUMIFS('2023_24'!$F$3:$F$22,'2023_24'!$A$3:$A$22,$A74)+SUMIFS('2022_23'!$F$3:$F$23,'2022_23'!$A$3:$A$23,$A74)+SUMIFS('2021_22'!$F$3:$F$21,'2021_22'!$A$3:$A$21,$A74)+SUMIFS('2020_21'!$F$3:$F$28,'2020_21'!$A$3:$A$28,$A74)+SUMIFS('2018_19'!$F$3:$F$28,'2018_19'!$A$3:$A$28,$A74) -> 0 | G74: =SUMIFS('2026_27'!$G$3:$G$49,'2026_27'!$A$3:$A$49,$A74)+SUMIFS('2025_26'!$G$3:$G$25,'2025_26'!$A$3:$A$25,$A74)+SUMIFS('2024_25'!$G$3:$G$21,'2024_25'!$A$3:$A$21,$A74)+SUMIFS('2023_24'!$G$3:$G$22,'2023_24'!$A$3:$A$22,$A74)+SUMIFS('2022_23'!$G$3:$G$23,'2022_23'!$A$3:$A$23,$A74)+SUMIFS('2021_22'!$G$3:$G$21,'2021_22'!$A$3:$A$21,$A74)+SUMIFS('2020_21'!$G$3:$G$28,'2020_21'!$A$3:$A$28,$A74)+SUMIFS('2018_19'!$G$3:$G$28,'2018_19'!$A$3:$A$28,$A74) -> 0 | H74: =SUMIFS('2026_27'!$H$3:$H$49,'2026_27'!$A$3:$A$49,$A74)+SUMIFS('2025_26'!$H$3:$H$25,'2025_26'!$A$3:$A$25,$A74)+SUMIFS('2024_25'!$H$3:$H$21,'2024_25'!$A$3:$A$21,$A74)+SUMIFS('2023_24'!$H$3:$H$22,'2023_24'!$A$3:$A$22,$A74)+SUMIFS('2022_23'!$H$3:$H$23,'2022_23'!$A$3:$A$23,$A74)+SUMIFS('2021_22'!$H$3:$H$21,'2021_22'!$A$3:$A$21,$A74)+SUMIFS('2020_21'!$H$3:$H$28,'2020_21'!$A$3:$A$28,$A74)+SUMIFS('2018_19'!$H$3:$H$28,'2018_19'!$A$3:$A$28,$A74) -> 0
C75: =SUM(E75,G75) -> 0 | D75: =SUM(F75,H75) -> 0 | E75: =SUMIFS('2026_27'!$E$3:$E$49,'2026_27'!$A$3:$A$49,$A75)+SUMIFS('2025_26'!$E$3:$E$25,'2025_26'!$A$3:$A$25,$A75)+SUMIFS('2024_25'!$E$3:$E$21,'2024_25'!$A$3:$A$21,$A75)+SUMIFS('2023_24'!$E$3:$E$22,'2023_24'!$A$3:$A$22,$A75)+SUMIFS('2022_23'!$E$3:$E$23,'2022_23'!$A$3:$A$23,$A75)+SUMIFS('2021_22'!$E$3:$E$21,'2021_22'!$A$3:$A$21,$A75)+SUMIFS('2020_21'!$E$3:$E$28,'2020_21'!$A$3:$A$28,$A75)+SUMIFS('2018_19'!$E$3:$E$28,'2018_19'!$A$3:$A$28,$A75) -> 0 | F75: =SUMIFS('2026_27'!$F$3:$F$49,'2026_27'!$A$3:$A$49,$A75)+SUMIFS('2025_26'!$F$3:$F$25,'2025_26'!$A$3:$A$25,$A75)+SUMIFS('2024_25'!$F$3:$F$21,'2024_25'!$A$3:$A$21,$A75)+SUMIFS('2023_24'!$F$3:$F$22,'2023_24'!$A$3:$A$22,$A75)+SUMIFS('2022_23'!$F$3:$F$23,'2022_23'!$A$3:$A$23,$A75)+SUMIFS('2021_22'!$F$3:$F$21,'2021_22'!$A$3:$A$21,$A75)+SUMIFS('2020_21'!$F$3:$F$28,'2020_21'!$A$3:$A$28,$A75)+SUMIFS('2018_19'!$F$3:$F$28,'2018_19'!$A$3:$A$28,$A75) -> 0 | G75: =SUMIFS('2026_27'!$G$3:$G$49,'2026_27'!$A$3:$A$49,$A75)+SUMIFS('2025_26'!$G$3:$G$25,'2025_26'!$A$3:$A$25,$A75)+SUMIFS('2024_25'!$G$3:$G$21,'2024_25'!$A$3:$A$21,$A75)+SUMIFS('2023_24'!$G$3:$G$22,'2023_24'!$A$3:$A$22,$A75)+SUMIFS('2022_23'!$G$3:$G$23,'2022_23'!$A$3:$A$23,$A75)+SUMIFS('2021_22'!$G$3:$G$21,'2021_22'!$A$3:$A$21,$A75)+SUMIFS('2020_21'!$G$3:$G$28,'2020_21'!$A$3:$A$28,$A75)+SUMIFS('2018_19'!$G$3:$G$28,'2018_19'!$A$3:$A$28,$A75) -> 0 | H75: =SUMIFS('2026_27'!$H$3:$H$49,'2026_27'!$A$3:$A$49,$A75)+SUMIFS('2025_26'!$H$3:$H$25,'2025_26'!$A$3:$A$25,$A75)+SUMIFS('2024_25'!$H$3:$H$21,'2024_25'!$A$3:$A$21,$A75)+SUMIFS('2023_24'!$H$3:$H$22,'2023_24'!$A$3:$A$22,$A75)+SUMIFS('2022_23'!$H$3:$H$23,'2022_23'!$A$3:$A$23,$A75)+SUMIFS('2021_22'!$H$3:$H$21,'2021_22'!$A$3:$A$21,$A75)+SUMIFS('2020_21'!$H$3:$H$28,'2020_21'!$A$3:$A$28,$A75)+SUMIFS('2018_19'!$H$3:$H$28,'2018_19'!$A$3:$A$28,$A75) -> 0
C76: =SUM(E76,G76) -> 0 | D76: =SUM(F76,H76) -> 0 | E76: =SUMIFS('2026_27'!$E$3:$E$49,'2026_27'!$A$3:$A$49,$A76)+SUMIFS('2025_26'!$E$3:$E$25,'2025_26'!$A$3:$A$25,$A76)+SUMIFS('2024_25'!$E$3:$E$21,'2024_25'!$A$3:$A$21,$A76)+SUMIFS('2023_24'!$E$3:$E$22,'2023_24'!$A$3:$A$22,$A76)+SUMIFS('2022_23'!$E$3:$E$23,'2022_23'!$A$3:$A$23,$A76)+SUMIFS('2021_22'!$E$3:$E$21,'2021_22'!$A$3:$A$21,$A76)+SUMIFS('2020_21'!$E$3:$E$28,'2020_21'!$A$3:$A$28,$A76)+SUMIFS('2018_19'!$E$3:$E$28,'2018_19'!$A$3:$A$28,$A76) -> 0 | F76: =SUMIFS('2026_27'!$F$3:$F$49,'2026_27'!$A$3:$A$49,$A76)+SUMIFS('2025_26'!$F$3:$F$25,'2025_26'!$A$3:$A$25,$A76)+SUMIFS('2024_25'!$F$3:$F$21,'2024_25'!$A$3:$A$21,$A76)+SUMIFS('2023_24'!$F$3:$F$22,'2023_24'!$A$3:$A$22,$A76)+SUMIFS('2022_23'!$F$3:$F$23,'2022_23'!$A$3:$A$23,$A76)+SUMIFS('2021_22'!$F$3:$F$21,'2021_22'!$A$3:$A$21,$A76)+SUMIFS('2020_21'!$F$3:$F$28,'2020_21'!$A$3:$A$28,$A76)+SUMIFS('2018_19'!$F$3:$F$28,'2018_19'!$A$3:$A$28,$A76) -> 0 | G76: =SUMIFS('2026_27'!$G$3:$G$49,'2026_27'!$A$3:$A$49,$A76)+SUMIFS('2025_26'!$G$3:$G$25,'2025_26'!$A$3:$A$25,$A76)+SUMIFS('2024_25'!$G$3:$G$21,'2024_25'!$A$3:$A$21,$A76)+SUMIFS('2023_24'!$G$3:$G$22,'2023_24'!$A$3:$A$22,$A76)+SUMIFS('2022_23'!$G$3:$G$23,'2022_23'!$A$3:$A$23,$A76)+SUMIFS('2021_22'!$G$3:$G$21,'2021_22'!$A$3:$A$21,$A76)+SUMIFS('2020_21'!$G$3:$G$28,'2020_21'!$A$3:$A$28,$A76)+SUMIFS('2018_19'!$G$3:$G$28,'2018_19'!$A$3:$A$28,$A76) -> 0 | H76: =SUMIFS('2026_27'!$H$3:$H$49,'2026_27'!$A$3:$A$49,$A76)+SUMIFS('2025_26'!$H$3:$H$25,'2025_26'!$A$3:$A$25,$A76)+SUMIFS('2024_25'!$H$3:$H$21,'2024_25'!$A$3:$A$21,$A76)+SUMIFS('2023_24'!$H$3:$H$22,'2023_24'!$A$3:$A$22,$A76)+SUMIFS('2022_23'!$H$3:$H$23,'2022_23'!$A$3:$A$23,$A76)+SUMIFS('2021_22'!$H$3:$H$21,'2021_22'!$A$3:$A$21,$A76)+SUMIFS('2020_21'!$H$3:$H$28,'2020_21'!$A$3:$A$28,$A76)+SUMIFS('2018_19'!$H$3:$H$28,'2018_19'!$A$3:$A$28,$A76) -> 0
C77: =SUM(E77,G77) -> 0 | D77: =SUM(F77,H77) -> 0 | E77: =SUMIFS('2026_27'!$E$3:$E$49,'2026_27'!$A$3:$A$49,$A77)+SUMIFS('2025_26'!$E$3:$E$25,'2025_26'!$A$3:$A$25,$A77)+SUMIFS('2024_25'!$E$3:$E$21,'2024_25'!$A$3:$A$21,$A77)+SUMIFS('2023_24'!$E$3:$E$22,'2023_24'!$A$3:$A$22,$A77)+SUMIFS('2022_23'!$E$3:$E$23,'2022_23'!$A$3:$A$23,$A77)+SUMIFS('2021_22'!$E$3:$E$21,'2021_22'!$A$3:$A$21,$A77)+SUMIFS('2020_21'!$E$3:$E$28,'2020_21'!$A$3:$A$28,$A77)+SUMIFS('2018_19'!$E$3:$E$28,'2018_19'!$A$3:$A$28,$A77) -> 0 | F77: =SUMIFS('2026_27'!$F$3:$F$49,'2026_27'!$A$3:$A$49,$A77)+SUMIFS('2025_26'!$F$3:$F$25,'2025_26'!$A$3:$A$25,$A77)+SUMIFS('2024_25'!$F$3:$F$21,'2024_25'!$A$3:$A$21,$A77)+SUMIFS('2023_24'!$F$3:$F$22,'2023_24'!$A$3:$A$22,$A77)+SUMIFS('2022_23'!$F$3:$F$23,'2022_23'!$A$3:$A$23,$A77)+SUMIFS('2021_22'!$F$3:$F$21,'2021_22'!$A$3:$A$21,$A77)+SUMIFS('2020_21'!$F$3:$F$28,'2020_21'!$A$3:$A$28,$A77)+SUMIFS('2018_19'!$F$3:$F$28,'2018_19'!$A$3:$A$28,$A77) -> 0 | G77: =SUMIFS('2026_27'!$G$3:$G$49,'2026_27'!$A$3:$A$49,$A77)+SUMIFS('2025_26'!$G$3:$G$25,'2025_26'!$A$3:$A$25,$A77)+SUMIFS('2024_25'!$G$3:$G$21,'2024_25'!$A$3:$A$21,$A77)+SUMIFS('2023_24'!$G$3:$G$22,'2023_24'!$A$3:$A$22,$A77)+SUMIFS('2022_23'!$G$3:$G$23,'2022_23'!$A$3:$A$23,$A77)+SUMIFS('2021_22'!$G$3:$G$21,'2021_22'!$A$3:$A$21,$A77)+SUMIFS('2020_21'!$G$3:$G$28,'2020_21'!$A$3:$A$28,$A77)+SUMIFS('2018_19'!$G$3:$G$28,'2018_19'!$A$3:$A$28,$A77) -> 0 | H77: =SUMIFS('2026_27'!$H$3:$H$49,'2026_27'!$A$3:$A$49,$A77)+SUMIFS('2025_26'!$H$3:$H$25,'2025_26'!$A$3:$A$25,$A77)+SUMIFS('2024_25'!$H$3:$H$21,'2024_25'!$A$3:$A$21,$A77)+SUMIFS('2023_24'!$H$3:$H$22,'2023_24'!$A$3:$A$22,$A77)+SUMIFS('2022_23'!$H$3:$H$23,'2022_23'!$A$3:$A$23,$A77)+SUMIFS('2021_22'!$H$3:$H$21,'2021_22'!$A$3:$A$21,$A77)+SUMIFS('2020_21'!$H$3:$H$28,'2020_21'!$A$3:$A$28,$A77)+SUMIFS('2018_19'!$H$3:$H$28,'2018_19'!$A$3:$A$28,$A77) -> 0
C78: =SUM(E78,G78) -> 0 | D78: =SUM(F78,H78) -> 0 | E78: =SUMIFS('2026_27'!$E$3:$E$49,'2026_27'!$A$3:$A$49,$A78)+SUMIFS('2025_26'!$E$3:$E$25,'2025_26'!$A$3:$A$25,$A78)+SUMIFS('2024_25'!$E$3:$E$21,'2024_25'!$A$3:$A$21,$A78)+SUMIFS('2023_24'!$E$3:$E$22,'2023_24'!$A$3:$A$22,$A78)+SUMIFS('2022_23'!$E$3:$E$23,'2022_23'!$A$3:$A$23,$A78)+SUMIFS('2021_22'!$E$3:$E$21,'2021_22'!$A$3:$A$21,$A78)+SUMIFS('2020_21'!$E$3:$E$28,'2020_21'!$A$3:$A$28,$A78)+SUMIFS('2018_19'!$E$3:$E$28,'2018_19'!$A$3:$A$28,$A78) -> 0 | F78: =SUMIFS('2026_27'!$F$3:$F$49,'2026_27'!$A$3:$A$49,$A78)+SUMIFS('2025_26'!$F$3:$F$25,'2025_26'!$A$3:$A$25,$A78)+SUMIFS('2024_25'!$F$3:$F$21,'2024_25'!$A$3:$A$21,$A78)+SUMIFS('2023_24'!$F$3:$F$22,'2023_24'!$A$3:$A$22,$A78)+SUMIFS('2022_23'!$F$3:$F$23,'2022_23'!$A$3:$A$23,$A78)+SUMIFS('2021_22'!$F$3:$F$21,'2021_22'!$A$3:$A$21,$A78)+SUMIFS('2020_21'!$F$3:$F$28,'2020_21'!$A$3:$A$28,$A78)+SUMIFS('2018_19'!$F$3:$F$28,'2018_19'!$A$3:$A$28,$A78) -> 0 | G78: =SUMIFS('2026_27'!$G$3:$G$49,'2026_27'!$A$3:$A$49,$A78)+SUMIFS('2025_26'!$G$3:$G$25,'2025_26'!$A$3:$A$25,$A78)+SUMIFS('2024_25'!$G$3:$G$21,'2024_25'!$A$3:$A$21,$A78)+SUMIFS('2023_24'!$G$3:$G$22,'2023_24'!$A$3:$A$22,$A78)+SUMIFS('2022_23'!$G$3:$G$23,'2022_23'!$A$3:$A$23,$A78)+SUMIFS('2021_22'!$G$3:$G$21,'2021_22'!$A$3:$A$21,$A78)+SUMIFS('2020_21'!$G$3:$G$28,'2020_21'!$A$3:$A$28,$A78)+SUMIFS('2018_19'!$G$3:$G$28,'2018_19'!$A$3:$A$28,$A78) -> 0 | H78: =SUMIFS('2026_27'!$H$3:$H$49,'2026_27'!$A$3:$A$49,$A78)+SUMIFS('2025_26'!$H$3:$H$25,'2025_26'!$A$3:$A$25,$A78)+SUMIFS('2024_25'!$H$3:$H$21,'2024_25'!$A$3:$A$21,$A78)+SUMIFS('2023_24'!$H$3:$H$22,'2023_24'!$A$3:$A$22,$A78)+SUMIFS('2022_23'!$H$3:$H$23,'2022_23'!$A$3:$A$23,$A78)+SUMIFS('2021_22'!$H$3:$H$21,'2021_22'!$A$3:$A$21,$A78)+SUMIFS('2020_21'!$H$3:$H$28,'2020_21'!$A$3:$A$28,$A78)+SUMIFS('2018_19'!$H$3:$H$28,'2018_19'!$A$3:$A$28,$A78) -> 0
C79: =SUM(E79,G79) -> 0 | D79: =SUM(F79,H79) -> 0 | E79: =SUMIFS('2026_27'!$E$3:$E$49,'2026_27'!$A$3:$A$49,$A79)+SUMIFS('2025_26'!$E$3:$E$25,'2025_26'!$A$3:$A$25,$A79)+SUMIFS('2024_25'!$E$3:$E$21,'2024_25'!$A$3:$A$21,$A79)+SUMIFS('2023_24'!$E$3:$E$22,'2023_24'!$A$3:$A$22,$A79)+SUMIFS('2022_23'!$E$3:$E$23,'2022_23'!$A$3:$A$23,$A79)+SUMIFS('2021_22'!$E$3:$E$21,'2021_22'!$A$3:$A$21,$A79)+SUMIFS('2020_21'!$E$3:$E$28,'2020_21'!$A$3:$A$28,$A79)+SUMIFS('2018_19'!$E$3:$E$28,'2018_19'!$A$3:$A$28,$A79) -> 0 | F79: =SUMIFS('2026_27'!$F$3:$F$49,'2026_27'!$A$3:$A$49,$A79)+SUMIFS('2025_26'!$F$3:$F$25,'2025_26'!$A$3:$A$25,$A79)+SUMIFS('2024_25'!$F$3:$F$21,'2024_25'!$A$3:$A$21,$A79)+SUMIFS('2023_24'!$F$3:$F$22,'2023_24'!$A$3:$A$22,$A79)+SUMIFS('2022_23'!$F$3:$F$23,'2022_23'!$A$3:$A$23,$A79)+SUMIFS('2021_22'!$F$3:$F$21,'2021_22'!$A$3:$A$21,$A79)+SUMIFS('2020_21'!$F$3:$F$28,'2020_21'!$A$3:$A$28,$A79)+SUMIFS('2018_19'!$F$3:$F$28,'2018_19'!$A$3:$A$28,$A79) -> 0 | G79: =SUMIFS('2026_27'!$G$3:$G$49,'2026_27'!$A$3:$A$49,$A79)+SUMIFS('2025_26'!$G$3:$G$25,'2025_26'!$A$3:$A$25,$A79)+SUMIFS('2024_25'!$G$3:$G$21,'2024_25'!$A$3:$A$21,$A79)+SUMIFS('2023_24'!$G$3:$G$22,'2023_24'!$A$3:$A$22,$A79)+SUMIFS('2022_23'!$G$3:$G$23,'2022_23'!$A$3:$A$23,$A79)+SUMIFS('2021_22'!$G$3:$G$21,'2021_22'!$A$3:$A$21,$A79)+SUMIFS('2020_21'!$G$3:$G$28,'2020_21'!$A$3:$A$28,$A79)+SUMIFS('2018_19'!$G$3:$G$28,'2018_19'!$A$3:$A$28,$A79) -> 0 | H79: =SUMIFS('2026_27'!$H$3:$H$49,'2026_27'!$A$3:$A$49,$A79)+SUMIFS('2025_26'!$H$3:$H$25,'2025_26'!$A$3:$A$25,$A79)+SUMIFS('2024_25'!$H$3:$H$21,'2024_25'!$A$3:$A$21,$A79)+SUMIFS('2023_24'!$H$3:$H$22,'2023_24'!$A$3:$A$22,$A79)+SUMIFS('2022_23'!$H$3:$H$23,'2022_23'!$A$3:$A$23,$A79)+SUMIFS('2021_22'!$H$3:$H$21,'2021_22'!$A$3:$A$21,$A79)+SUMIFS('2020_21'!$H$3:$H$28,'2020_21'!$A$3:$A$28,$A79)+SUMIFS('2018_19'!$H$3:$H$28,'2018_19'!$A$3:$A$28,$A79) -> 0
C80: =SUM(E80,G80) -> 0 | D80: =SUM(F80,H80) -> 0 | E80: =SUMIFS('2026_27'!$E$3:$E$49,'2026_27'!$A$3:$A$49,$A80)+SUMIFS('2025_26'!$E$3:$E$25,'2025_26'!$A$3:$A$25,$A80)+SUMIFS('2024_25'!$E$3:$E$21,'2024_25'!$A$3:$A$21,$A80)+SUMIFS('2023_24'!$E$3:$E$22,'2023_24'!$A$3:$A$22,$A80)+SUMIFS('2022_23'!$E$3:$E$23,'2022_23'!$A$3:$A$23,$A80)+SUMIFS('2021_22'!$E$3:$E$21,'2021_22'!$A$3:$A$21,$A80)+SUMIFS('2020_21'!$E$3:$E$28,'2020_21'!$A$3:$A$28,$A80)+SUMIFS('2018_19'!$E$3:$E$28,'2018_19'!$A$3:$A$28,$A80) -> 0 | F80: =SUMIFS('2026_27'!$F$3:$F$49,'2026_27'!$A$3:$A$49,$A80)+SUMIFS('2025_26'!$F$3:$F$25,'2025_26'!$A$3:$A$25,$A80)+SUMIFS('2024_25'!$F$3:$F$21,'2024_25'!$A$3:$A$21,$A80)+SUMIFS('2023_24'!$F$3:$F$22,'2023_24'!$A$3:$A$22,$A80)+SUMIFS('2022_23'!$F$3:$F$23,'2022_23'!$A$3:$A$23,$A80)+SUMIFS('2021_22'!$F$3:$F$21,'2021_22'!$A$3:$A$21,$A80)+SUMIFS('2020_21'!$F$3:$F$28,'2020_21'!$A$3:$A$28,$A80)+SUMIFS('2018_19'!$F$3:$F$28,'2018_19'!$A$3:$A$28,$A80) -> 0 | G80: =SUMIFS('2026_27'!$G$3:$G$49,'2026_27'!$A$3:$A$49,$A80)+SUMIFS('2025_26'!$G$3:$G$25,'2025_26'!$A$3:$A$25,$A80)+SUMIFS('2024_25'!$G$3:$G$21,'2024_25'!$A$3:$A$21,$A80)+SUMIFS('2023_24'!$G$3:$G$22,'2023_24'!$A$3:$A$22,$A80)+SUMIFS('2022_23'!$G$3:$G$23,'2022_23'!$A$3:$A$23,$A80)+SUMIFS('2021_22'!$G$3:$G$21,'2021_22'!$A$3:$A$21,$A80)+SUMIFS('2020_21'!$G$3:$G$28,'2020_21'!$A$3:$A$28,$A80)+SUMIFS('2018_19'!$G$3:$G$28,'2018_19'!$A$3:$A$28,$A80) -> 0 | H80: =SUMIFS('2026_27'!$H$3:$H$49,'2026_27'!$A$3:$A$49,$A80)+SUMIFS('2025_26'!$H$3:$H$25,'2025_26'!$A$3:$A$25,$A80)+SUMIFS('2024_25'!$H$3:$H$21,'2024_25'!$A$3:$A$21,$A80)+SUMIFS('2023_24'!$H$3:$H$22,'2023_24'!$A$3:$A$22,$A80)+SUMIFS('2022_23'!$H$3:$H$23,'2022_23'!$A$3:$A$23,$A80)+SUMIFS('2021_22'!$H$3:$H$21,'2021_22'!$A$3:$A$21,$A80)+SUMIFS('2020_21'!$H$3:$H$28,'2020_21'!$A$3:$A$28,$A80)+SUMIFS('2018_19'!$H$3:$H$28,'2018_19'!$A$3:$A$28,$A80) -> 0
C81: =SUM(E81,G81) -> 0 | D81: =SUM(F81,H81) -> 0 | E81: =SUMIFS('2026_27'!$E$3:$E$49,'2026_27'!$A$3:$A$49,$A81)+SUMIFS('2025_26'!$E$3:$E$25,'2025_26'!$A$3:$A$25,$A81)+SUMIFS('2024_25'!$E$3:$E$21,'2024_25'!$A$3:$A$21,$A81)+SUMIFS('2023_24'!$E$3:$E$22,'2023_24'!$A$3:$A$22,$A81)+SUMIFS('2022_23'!$E$3:$E$23,'2022_23'!$A$3:$A$23,$A81)+SUMIFS('2021_22'!$E$3:$E$21,'2021_22'!$A$3:$A$21,$A81)+SUMIFS('2020_21'!$E$3:$E$28,'2020_21'!$A$3:$A$28,$A81)+SUMIFS('2018_19'!$E$3:$E$28,'2018_19'!$A$3:$A$28,$A81) -> 0 | F81: =SUMIFS('2026_27'!$F$3:$F$49,'2026_27'!$A$3:$A$49,$A81)+SUMIFS('2025_26'!$F$3:$F$25,'2025_26'!$A$3:$A$25,$A81)+SUMIFS('2024_25'!$F$3:$F$21,'2024_25'!$A$3:$A$21,$A81)+SUMIFS('2023_24'!$F$3:$F$22,'2023_24'!$A$3:$A$22,$A81)+SUMIFS('2022_23'!$F$3:$F$23,'2022_23'!$A$3:$A$23,$A81)+SUMIFS('2021_22'!$F$3:$F$21,'2021_22'!$A$3:$A$21,$A81)+SUMIFS('2020_21'!$F$3:$F$28,'2020_21'!$A$3:$A$28,$A81)+SUMIFS('2018_19'!$F$3:$F$28,'2018_19'!$A$3:$A$28,$A81) -> 0 | G81: =SUMIFS('2026_27'!$G$3:$G$49,'2026_27'!$A$3:$A$49,$A81)+SUMIFS('2025_26'!$G$3:$G$25,'2025_26'!$A$3:$A$25,$A81)+SUMIFS('2024_25'!$G$3:$G$21,'2024_25'!$A$3:$A$21,$A81)+SUMIFS('2023_24'!$G$3:$G$22,'2023_24'!$A$3:$A$22,$A81)+SUMIFS('2022_23'!$G$3:$G$23,'2022_23'!$A$3:$A$23,$A81)+SUMIFS('2021_22'!$G$3:$G$21,'2021_22'!$A$3:$A$21,$A81)+SUMIFS('2020_21'!$G$3:$G$28,'2020_21'!$A$3:$A$28,$A81)+SUMIFS('2018_19'!$G$3:$G$28,'2018_19'!$A$3:$A$28,$A81) -> 0 | H81: =SUMIFS('2026_27'!$H$3:$H$49,'2026_27'!$A$3:$A$49,$A81)+SUMIFS('2025_26'!$H$3:$H$25,'2025_26'!$A$3:$A$25,$A81)+SUMIFS('2024_25'!$H$3:$H$21,'2024_25'!$A$3:$A$21,$A81)+SUMIFS('2023_24'!$H$3:$H$22,'2023_24'!$A$3:$A$22,$A81)+SUMIFS('2022_23'!$H$3:$H$23,'2022_23'!$A$3:$A$23,$A81)+SUMIFS('2021_22'!$H$3:$H$21,'2021_22'!$A$3:$A$21,$A81)+SUMIFS('2020_21'!$H$3:$H$28,'2020_21'!$A$3:$A$28,$A81)+SUMIFS('2018_19'!$H$3:$H$28,'2018_19'!$A$3:$A$28,$A81) -> 0
C82: =SUM(E82,G82) -> 0 | D82: =SUM(F82,H82) -> 0 | E82: =SUMIFS('2026_27'!$E$3:$E$49,'2026_27'!$A$3:$A$49,$A82)+SUMIFS('2025_26'!$E$3:$E$25,'2025_26'!$A$3:$A$25,$A82)+SUMIFS('2024_25'!$E$3:$E$21,'2024_25'!$A$3:$A$21,$A82)+SUMIFS('2023_24'!$E$3:$E$22,'2023_24'!$A$3:$A$22,$A82)+SUMIFS('2022_23'!$E$3:$E$23,'2022_23'!$A$3:$A$23,$A82)+SUMIFS('2021_22'!$E$3:$E$21,'2021_22'!$A$3:$A$21,$A82)+SUMIFS('2020_21'!$E$3:$E$28,'2020_21'!$A$3:$A$28,$A82)+SUMIFS('2018_19'!$E$3:$E$28,'2018_19'!$A$3:$A$28,$A82) -> 0 | F82: =SUMIFS('2026_27'!$F$3:$F$49,'2026_27'!$A$3:$A$49,$A82)+SUMIFS('2025_26'!$F$3:$F$25,'2025_26'!$A$3:$A$25,$A82)+SUMIFS('2024_25'!$F$3:$F$21,'2024_25'!$A$3:$A$21,$A82)+SUMIFS('2023_24'!$F$3:$F$22,'2023_24'!$A$3:$A$22,$A82)+SUMIFS('2022_23'!$F$3:$F$23,'2022_23'!$A$3:$A$23,$A82)+SUMIFS('2021_22'!$F$3:$F$21,'2021_22'!$A$3:$A$21,$A82)+SUMIFS('2020_21'!$F$3:$F$28,'2020_21'!$A$3:$A$28,$A82)+SUMIFS('2018_19'!$F$3:$F$28,'2018_19'!$A$3:$A$28,$A82) -> 0 | G82: =SUMIFS('2026_27'!$G$3:$G$49,'2026_27'!$A$3:$A$49,$A82)+SUMIFS('2025_26'!$G$3:$G$25,'2025_26'!$A$3:$A$25,$A82)+SUMIFS('2024_25'!$G$3:$G$21,'2024_25'!$A$3:$A$21,$A82)+SUMIFS('2023_24'!$G$3:$G$22,'2023_24'!$A$3:$A$22,$A82)+SUMIFS('2022_23'!$G$3:$G$23,'2022_23'!$A$3:$A$23,$A82)+SUMIFS('2021_22'!$G$3:$G$21,'2021_22'!$A$3:$A$21,$A82)+SUMIFS('2020_21'!$G$3:$G$28,'2020_21'!$A$3:$A$28,$A82)+SUMIFS('2018_19'!$G$3:$G$28,'2018_19'!$A$3:$A$28,$A82) -> 0 | H82: =SUMIFS('2026_27'!$H$3:$H$49,'2026_27'!$A$3:$A$49,$A82)+SUMIFS('2025_26'!$H$3:$H$25,'2025_26'!$A$3:$A$25,$A82)+SUMIFS('2024_25'!$H$3:$H$21,'2024_25'!$A$3:$A$21,$A82)+SUMIFS('2023_24'!$H$3:$H$22,'2023_24'!$A$3:$A$22,$A82)+SUMIFS('2022_23'!$H$3:$H$23,'2022_23'!$A$3:$A$23,$A82)+SUMIFS('2021_22'!$H$3:$H$21,'2021_22'!$A$3:$A$21,$A82)+SUMIFS('2020_21'!$H$3:$H$28,'2020_21'!$A$3:$A$28,$A82)+SUMIFS('2018_19'!$H$3:$H$28,'2018_19'!$A$3:$A$28,$A82) -> 0
C83: =SUM(E83,G83) -> 0 | D83: =SUM(F83,H83) -> 0 | E83: =SUMIFS('2026_27'!$E$3:$E$49,'2026_27'!$A$3:$A$49,$A83)+SUMIFS('2025_26'!$E$3:$E$25,'2025_26'!$A$3:$A$25,$A83)+SUMIFS('2024_25'!$E$3:$E$21,'2024_25'!$A$3:$A$21,$A83)+SUMIFS('2023_24'!$E$3:$E$22,'2023_24'!$A$3:$A$22,$A83)+SUMIFS('2022_23'!$E$3:$E$23,'2022_23'!$A$3:$A$23,$A83)+SUMIFS('2021_22'!$E$3:$E$21,'2021_22'!$A$3:$A$21,$A83)+SUMIFS('2020_21'!$E$3:$E$28,'2020_21'!$A$3:$A$28,$A83)+SUMIFS('2018_19'!$E$3:$E$28,'2018_19'!$A$3:$A$28,$A83) -> 0 | F83: =SUMIFS('2026_27'!$F$3:$F$49,'2026_27'!$A$3:$A$49,$A83)+SUMIFS('2025_26'!$F$3:$F$25,'2025_26'!$A$3:$A$25,$A83)+SUMIFS('2024_25'!$F$3:$F$21,'2024_25'!$A$3:$A$21,$A83)+SUMIFS('2023_24'!$F$3:$F$22,'2023_24'!$A$3:$A$22,$A83)+SUMIFS('2022_23'!$F$3:$F$23,'2022_23'!$A$3:$A$23,$A83)+SUMIFS('2021_22'!$F$3:$F$21,'2021_22'!$A$3:$A$21,$A83)+SUMIFS('2020_21'!$F$3:$F$28,'2020_21'!$A$3:$A$28,$A83)+SUMIFS('2018_19'!$F$3:$F$28,'2018_19'!$A$3:$A$28,$A83) -> 0 | G83: =SUMIFS('2026_27'!$G$3:$G$49,'2026_27'!$A$3:$A$49,$A83)+SUMIFS('2025_26'!$G$3:$G$25,'2025_26'!$A$3:$A$25,$A83)+SUMIFS('2024_25'!$G$3:$G$21,'2024_25'!$A$3:$A$21,$A83)+SUMIFS('2023_24'!$G$3:$G$22,'2023_24'!$A$3:$A$22,$A83)+SUMIFS('2022_23'!$G$3:$G$23,'2022_23'!$A$3:$A$23,$A83)+SUMIFS('2021_22'!$G$3:$G$21,'2021_22'!$A$3:$A$21,$A83)+SUMIFS('2020_21'!$G$3:$G$28,'2020_21'!$A$3:$A$28,$A83)+SUMIFS('2018_19'!$G$3:$G$28,'2018_19'!$A$3:$A$28,$A83) -> 0 | H83: =SUMIFS('2026_27'!$H$3:$H$49,'2026_27'!$A$3:$A$49,$A83)+SUMIFS('2025_26'!$H$3:$H$25,'2025_26'!$A$3:$A$25,$A83)+SUMIFS('2024_25'!$H$3:$H$21,'2024_25'!$A$3:$A$21,$A83)+SUMIFS('2023_24'!$H$3:$H$22,'2023_24'!$A$3:$A$22,$A83)+SUMIFS('2022_23'!$H$3:$H$23,'2022_23'!$A$3:$A$23,$A83)+SUMIFS('2021_22'!$H$3:$H$21,'2021_22'!$A$3:$A$21,$A83)+SUMIFS('2020_21'!$H$3:$H$28,'2020_21'!$A$3:$A$28,$A83)+SUMIFS('2018_19'!$H$3:$H$28,'2018_19'!$A$3:$A$28,$A83) -> 0
C84: =SUM(E84,G84) -> 0 | D84: =SUM(F84,H84) -> 0 | E84: =SUMIFS('2026_27'!$E$3:$E$49,'2026_27'!$A$3:$A$49,$A84)+SUMIFS('2025_26'!$E$3:$E$25,'2025_26'!$A$3:$A$25,$A84)+SUMIFS('2024_25'!$E$3:$E$21,'2024_25'!$A$3:$A$21,$A84)+SUMIFS('2023_24'!$E$3:$E$22,'2023_24'!$A$3:$A$22,$A84)+SUMIFS('2022_23'!$E$3:$E$23,'2022_23'!$A$3:$A$23,$A84)+SUMIFS('2021_22'!$E$3:$E$21,'2021_22'!$A$3:$A$21,$A84)+SUMIFS('2020_21'!$E$3:$E$28,'2020_21'!$A$3:$A$28,$A84)+SUMIFS('2018_19'!$E$3:$E$28,'2018_19'!$A$3:$A$28,$A84) -> 0 | F84: =SUMIFS('2026_27'!$F$3:$F$49,'2026_27'!$A$3:$A$49,$A84)+SUMIFS('2025_26'!$F$3:$F$25,'2025_26'!$A$3:$A$25,$A84)+SUMIFS('2024_25'!$F$3:$F$21,'2024_25'!$A$3:$A$21,$A84)+SUMIFS('2023_24'!$F$3:$F$22,'2023_24'!$A$3:$A$22,$A84)+SUMIFS('2022_23'!$F$3:$F$23,'2022_23'!$A$3:$A$23,$A84)+SUMIFS('2021_22'!$F$3:$F$21,'2021_22'!$A$3:$A$21,$A84)+SUMIFS('2020_21'!$F$3:$F$28,'2020_21'!$A$3:$A$28,$A84)+SUMIFS('2018_19'!$F$3:$F$28,'2018_19'!$A$3:$A$28,$A84) -> 0 | G84: =SUMIFS('2026_27'!$G$3:$G$49,'2026_27'!$A$3:$A$49,$A84)+SUMIFS('2025_26'!$G$3:$G$25,'2025_26'!$A$3:$A$25,$A84)+SUMIFS('2024_25'!$G$3:$G$21,'2024_25'!$A$3:$A$21,$A84)+SUMIFS('2023_24'!$G$3:$G$22,'2023_24'!$A$3:$A$22,$A84)+SUMIFS('2022_23'!$G$3:$G$23,'2022_23'!$A$3:$A$23,$A84)+SUMIFS('2021_22'!$G$3:$G$21,'2021_22'!$A$3:$A$21,$A84)+SUMIFS('2020_21'!$G$3:$G$28,'2020_21'!$A$3:$A$28,$A84)+SUMIFS('2018_19'!$G$3:$G$28,'2018_19'!$A$3:$A$28,$A84) -> 0 | H84: =SUMIFS('2026_27'!$H$3:$H$49,'2026_27'!$A$3:$A$49,$A84)+SUMIFS('2025_26'!$H$3:$H$25,'2025_26'!$A$3:$A$25,$A84)+SUMIFS('2024_25'!$H$3:$H$21,'2024_25'!$A$3:$A$21,$A84)+SUMIFS('2023_24'!$H$3:$H$22,'2023_24'!$A$3:$A$22,$A84)+SUMIFS('2022_23'!$H$3:$H$23,'2022_23'!$A$3:$A$23,$A84)+SUMIFS('2021_22'!$H$3:$H$21,'2021_22'!$A$3:$A$21,$A84)+SUMIFS('2020_21'!$H$3:$H$28,'2020_21'!$A$3:$A$28,$A84)+SUMIFS('2018_19'!$H$3:$H$28,'2018_19'!$A$3:$A$28,$A84) -> 0
C85: =SUM(E85,G85) -> 0 | D85: =SUM(F85,H85) -> 0 | E85: =SUMIFS('2026_27'!$E$3:$E$49,'2026_27'!$A$3:$A$49,$A85)+SUMIFS('2025_26'!$E$3:$E$25,'2025_26'!$A$3:$A$25,$A85)+SUMIFS('2024_25'!$E$3:$E$21,'2024_25'!$A$3:$A$21,$A85)+SUMIFS('2023_24'!$E$3:$E$22,'2023_24'!$A$3:$A$22,$A85)+SUMIFS('2022_23'!$E$3:$E$23,'2022_23'!$A$3:$A$23,$A85)+SUMIFS('2021_22'!$E$3:$E$21,'2021_22'!$A$3:$A$21,$A85)+SUMIFS('2020_21'!$E$3:$E$28,'2020_21'!$A$3:$A$28,$A85)+SUMIFS('2018_19'!$E$3:$E$28,'2018_19'!$A$3:$A$28,$A85) -> 0 | F85: =SUMIFS('2026_27'!$F$3:$F$49,'2026_27'!$A$3:$A$49,$A85)+SUMIFS('2025_26'!$F$3:$F$25,'2025_26'!$A$3:$A$25,$A85)+SUMIFS('2024_25'!$F$3:$F$21,'2024_25'!$A$3:$A$21,$A85)+SUMIFS('2023_24'!$F$3:$F$22,'2023_24'!$A$3:$A$22,$A85)+SUMIFS('2022_23'!$F$3:$F$23,'2022_23'!$A$3:$A$23,$A85)+SUMIFS('2021_22'!$F$3:$F$21,'2021_22'!$A$3:$A$21,$A85)+SUMIFS('2020_21'!$F$3:$F$28,'2020_21'!$A$3:$A$28,$A85)+SUMIFS('2018_19'!$F$3:$F$28,'2018_19'!$A$3:$A$28,$A85) -> 0 | G85: =SUMIFS('2026_27'!$G$3:$G$49,'2026_27'!$A$3:$A$49,$A85)+SUMIFS('2025_26'!$G$3:$G$25,'2025_26'!$A$3:$A$25,$A85)+SUMIFS('2024_25'!$G$3:$G$21,'2024_25'!$A$3:$A$21,$A85)+SUMIFS('2023_24'!$G$3:$G$22,'2023_24'!$A$3:$A$22,$A85)+SUMIFS('2022_23'!$G$3:$G$23,'2022_23'!$A$3:$A$23,$A85)+SUMIFS('2021_22'!$G$3:$G$21,'2021_22'!$A$3:$A$21,$A85)+SUMIFS('2020_21'!$G$3:$G$28,'2020_21'!$A$3:$A$28,$A85)+SUMIFS('2018_19'!$G$3:$G$28,'2018_19'!$A$3:$A$28,$A85) -> 0 | H85: =SUMIFS('2026_27'!$H$3:$H$49,'2026_27'!$A$3:$A$49,$A85)+SUMIFS('2025_26'!$H$3:$H$25,'2025_26'!$A$3:$A$25,$A85)+SUMIFS('2024_25'!$H$3:$H$21,'2024_25'!$A$3:$A$21,$A85)+SUMIFS('2023_24'!$H$3:$H$22,'2023_24'!$A$3:$A$22,$A85)+SUMIFS('2022_23'!$H$3:$H$23,'2022_23'!$A$3:$A$23,$A85)+SUMIFS('2021_22'!$H$3:$H$21,'2021_22'!$A$3:$A$21,$A85)+SUMIFS('2020_21'!$H$3:$H$28,'2020_21'!$A$3:$A$28,$A85)+SUMIFS('2018_19'!$H$3:$H$28,'2018_19'!$A$3:$A$28,$A85) -> 0
... C99: =SUM(E99,G99) -> 0 | D99: =SUM(F99,H99) -> 0 | E99: =SUMIFS('2026_27'!$E$3:$E$49,'2026_27'!$A$3:$A$49,$A99)+SUMIFS('2025_26'!$E$3:$E$25,'2025_26'!$A$3:$A$25,$A99)+SUMIFS('2024_25'!$E$3:$E$21,'2024_25'!$A$3:$A$21,$A99)+SUMIFS('2023_24'!$E$3:$E$22,'2023_24'!$A$3:$A$22,$A99)+SUMIFS('2022_23'!$E$3:$E$23,'2022_23'!$A$3:$A$23,$A99)+SUMIFS('2021_22'!$E$3:$E$21,'2021_22'!$A$3:$A$21,$A99)+SUMIFS('2020_21'!$E$3:$E$28,'2020_21'!$A$3:$A$28,$A99)+SUMIFS('2018_19'!$E$3:$E$28,'2018_19'!$A$3:$A$28,$A99) -> 0 | F99: =SUMIFS('2026_27'!$F$3:$F$49,'2026_27'!$A$3:$A$49,$A99)+SUMIFS('2025_26'!$F$3:$F$25,'2025_26'!$A$3:$A$25,$A99)+SUMIFS('2024_25'!$F$3:$F$21,'2024_25'!$A$3:$A$21,$A99)+SUMIFS('2023_24'!$F$3:$F$22,'2023_24'!$A$3:$A$22,$A99)+SUMIFS('2022_23'!$F$3:$F$23,'2022_23'!$A$3:$A$23,$A99)+SUMIFS('2021_22'!$F$3:$F$21,'2021_22'!$A$3:$A$21,$A99)+SUMIFS('2020_21'!$F$3:$F$28,'2020_21'!$A$3:$A$28,$A99)+SUMIFS('2018_19'!$F$3:$F$28,'2018_19'!$A$3:$A$28,$A99) -> 0 | G99: =SUMIFS('2026_27'!$G$3:$G$49,'2026_27'!$A$3:$A$49,$A99)+SUMIFS('2025_26'!$G$3:$G$25,'2025_26'!$A$3:$A$25,$A99)+SUMIFS('2024_25'!$G$3:$G$21,'2024_25'!$A$3:$A$21,$A99)+SUMIFS('2023_24'!$G$3:$G$22,'2023_24'!$A$3:$A$22,$A99)+SUMIFS('2022_23'!$G$3:$G$23,'2022_23'!$A$3:$A$23,$A99)+SUMIFS('2021_22'!$G$3:$G$21,'2021_22'!$A$3:$A$21,$A99)+SUMIFS('2020_21'!$G$3:$G$28,'2020_21'!$A$3:$A$28,$A99)+SUMIFS('2018_19'!$G$3:$G$28,'2018_19'!$A$3:$A$28,$A99) -> 0 | H99: =SUMIFS('2026_27'!$H$3:$H$49,'2026_27'!$A$3:$A$49,$A99)+SUMIFS('2025_26'!$H$3:$H$25,'2025_26'!$A$3:$A$25,$A99)+SUMIFS('2024_25'!$H$3:$H$21,'2024_25'!$A$3:$A$21,$A99)+SUMIFS('2023_24'!$H$3:$H$22,'2023_24'!$A$3:$A$22,$A99)+SUMIFS('2022_23'!$H$3:$H$23,'2022_23'!$A$3:$A$23,$A99)+SUMIFS('2021_22'!$H$3:$H$21,'2021_22'!$A$3:$A$21,$A99)+SUMIFS('2020_21'!$H$3:$H$28,'2020_21'!$A$3:$A$28,$A99)+SUMIFS('2018_19'!$H$3:$H$28,'2018_19'!$A$3:$A$28,$A99) -> 0

Sheet 2026_27
A1: DHC Plzeň, ženy - 2026 / 2027
A2: Hráčka | B2: Post | C2: Celkem zápasy | D2: Celkem góly | E2: Liga zápasy | F2: Liga góly | G2: Pohár zápasy | H2: Pohár góly
C3: =SUM(E3,G3) -> 0 | D3: =SUM(F3,H3) -> 0
C4: =SUM(E4,G4) -> 0 | D4: =SUM(F4,H4) -> 0
C5: =SUM(E5,G5) -> 0 | D5: =SUM(F5,H5) -> 0
C6: =SUM(E6,G6) -> 0 | D6: =SUM(F6,H6) -> 0
C7: =SUM(E7,G7) -> 0 | D7: =SUM(F7,H7) -> 0
C8: =SUM(E8,G8) -> 0 | D8: =SUM(F8,H8) -> 0
C9: =SUM(E9,G9) -> 0 | D9: =SUM(F9,H9) -> 0
C10: =SUM(E10,G10) -> 0 | D10: =SUM(F10,H10) -> 0
C11: =SUM(E11,G11) -> 0 | D11: =SUM(F11,H11) -> 0
C12: =SUM(E12,G12) -> 0 | D12: =SUM(F12,H12) -> 0
C13: =SUM(E13,G13) -> 0 | D13: =SUM(F13,H13) -> 0
C14: =SUM(E14,G14) -> 0 | D14: =SUM(F14,H14) -> 0
... C49: =SUM(E49,G49) -> 0 | D49: =SUM(F49,H49) -> 0

Sheet 2025_26
A1: DHC Plzeň, ženy - 2025 / 2026
A2: Hráčka | B2: Post | C2: Celkem zápasy | D2: Celkem góly | E2: Liga zápasy | F2: Liga góly | G2: Pohár zápasy | H2: Pohár góly
A3: Buchnerová Barbora | B3: H | C3: =SUM(E3,G3) -> 27 | D3: =SUM(F3,H3) -> 70 | E3: 26 | F3: 67 | G3: 1 | H3: 3
A4: Burjasová Tereza | B4: H | C4: =SUM(E4,G4) -> 2 | D4: =SUM(F4,H4) -> 1 | E4: 1 | F4: 0 | G4: 1 | H4: 1
A5: Drozdová Lucie | B5: H | C5: =SUM(E5,G5) -> 27 | D5: =SUM(F5,H5) -> 42 | E5: 26 | F5: 41 | G5: 1 | H5: 1
A6: Drozdová Petra | B6: H | C6: =SUM(E6,G6) -> 28 | D6: =SUM(F6,H6) -> 43 | E6: 26 | F6: 30 | G6: 2 | H6: 13
A7: Fenclová Veronika (Galušková) | B7: H | C7: =SUM(E7,G7) -> 22 | D7: =SUM(F7,H7) -> 119 | E7: 20 | F7: 110 | G7: 2 | H7: 9
A8: Formanová Hana | B8: H | C8: =SUM(E8,G8) -> 17 | D8: =SUM(F8,H8) -> 10 | E8: 15 | F8: 8 | G8: 2 | H8: 2
A9: Franzová Denisa | B9: H | C9: =SUM(E9,G9) -> 28 | D9: =SUM(F9,H9) -> 42 | E9: 26 | F9: 37 | G9: 2 | H9: 5
A10: Galušková Linda | B10: H | C10: =SUM(E10,G10) -> 27 | D10: =SUM(F10,H10) -> 42 | E10: 25 | F10: 42 | G10: 2 | H10: 0
A11: Hodková Justýna | B11: B | C11: =SUM(E11,G11) -> 9 | D11: =SUM(F11,H11) -> 0 | E11: 9 | F11: 0 | G11: 0 | H11: 0
A12: Chvátalová Adéla | B12: B | C12: =SUM(E12,G12) -> 15 | D12: =SUM(F12,H12) -> 0 | E12: 15 | F12: 0 | G12: 0 | H12: 0
A13: Košková Tereza | B13: H | C13: =SUM(E13,G13) -> 8 | D13: =SUM(F13,H13) -> 5 | E13: 6 | F13: 1 | G13: 2 | H13: 4
A14: Koubová Alexandra | B14: H | C14: =SUM(E14,G14) -> 17 | D14: =SUM(F14,H14) -> 67 | E14: 16 | F14: 63 | G14: 1 | H14: 4
... A25: Vysloužilová Denisa | B25: H | C25: =SUM(E25,G25) -> 28 | D25: =SUM(F25,H25) -> 35 | E25: 26 | F25: 32 | G25: 2 | H25: 3

Sheet 2024_25
A1: DHC Plzeň, ženy - 2024 / 2025
A2: Hráčka | B2: Post | C2: Celkem zápasy | D2: Celkem góly | E2: Liga zápasy | F2: Liga góly | G2: Pohár zápasy | H2: Pohár góly
A3: Baštová Veronika | B3: H | C3: =SUM(E3,G3) -> 17 | D3: =SUM(F3,H3) -> 20 | E3: 16 | F3: 16 | G3: 1 | H3: 4
A4: Benešová Lucie | B4: H | C4: =SUM(E4,G4) -> 16 | D4: =SUM(F4,H4) -> 4 | E4: 15 | F4: 3 | G4: 1 | H4: 1
A5: Buchnerová Barbora | B5: H | C5: =SUM(E5,G5) -> 25 | D5: =SUM(F5,H5) -> 39 | E5: 23 | F5: 35 | G5: 2 | H5: 4
A6: Drozdová Lucie | B6: H | C6: =SUM(E6,G6) -> 28 | D6: =SUM(F6,H6) -> 61 | E6: 26 | F6: 57 | G6: 2 | H6: 4
A7: Drozdová Petra | B7: H | C7: =SUM(E7,G7) -> 26 | D7: =SUM(F7,H7) -> 63 | E7: 24 | F7: 54 | G7: 2 | H7: 9
A8: Fenclová Veronika (Galušková) | B8: H | C8: =SUM(E8,G8) -> 9 | D8: =SUM(F8,H8) -> 51 | E8: 9 | F8: 51 | G8: 0 | H8: 0
A9: Franzová Denisa | B9: H | C9: =SUM(E9,G9) -> 8 | D9: =SUM(F9,H9) -> 2 | E9: 8 | F9: 2 | G9: 0 | H9: 0
